BEGIN:VCALENDAR
VERSION:2.0
PRODID:-//ChamberMaster//Event Calendar 2.0//EN
METHOD:PUBLISH
X-PUBLISHED-TTL:P3D
REFRESH-INTERVAL:P3D
CALSCALE:GREGORIAN
BEGIN:VEVENT
DTSTART:20180211T190000Z
DTEND:20180211T210000Z
X-MICROSOFT-CDO-ALLDAYEVENT:FALSE
SUMMARY:40th Annual Sertoma Club Ice Fishing Derby
DESCRIPTION:Due to the wind chill temp on the ice\, this has been post poned to next Sunday\n\n\n\nOur Charter Organization the Fergus Falls Sertoma Club is hosting their 40th Annual Ice Fishing Derby\, Sunday February 4th.\n\n\n\nWe would like to have a large scout presence at the Derby as well having a theme this year.\n\nWe are thinking of continuing the Medieval theme from summer camp and would like all participating to create items to decorate their site. (shields\, helmets\, ect.)\n\n\n\nPlease watch for further information to come.
X-ALT-DESC;FMTTYPE=text/html:<span class="_4n-j _3cht fsl" data-testid="event-permalink-details">Due to the wind chill temp on the ice\, this has been post poned to next Sunday<br />\n<br />\nOur Charter Organization the Fergus Falls Sertoma Club is hosting their 40th Annual Ice Fishing Derby\, Sunday February 4th.<br />\n<br />\nWe would like to have a large scout presence at the Derby as well having a theme this year.<br />\nWe are thinking of continuing the Medieval theme from summer camp and would like all participating to create items to decorate their site. (shields\, helmets\, ect.)<br />\n<br />\nPlease watch for further information to come.</span>
LOCATION:Pebble Lake - Fergus Falls
UID:e.314.43876
SEQUENCE:3
DTSTAMP:20260424T043123Z
URL:https://business.fergusfalls.com/events/details/40th-annual-sertoma-club-ice-fishing-derby-43876
END:VEVENT

END:VCALENDAR
