BEGIN:VCALENDAR
VERSION:2.0
PRODID:-//ChamberMaster//Event Calendar 2.0//EN
METHOD:PUBLISH
X-PUBLISHED-TTL:P3D
REFRESH-INTERVAL:P3D
CALSCALE:GREGORIAN
BEGIN:VEVENT
DTSTART:20190203T190000Z
DTEND:20190203T210000Z
X-MICROSOFT-CDO-ALLDAYEVENT:FALSE
SUMMARY:40th Annual Sertoma Ice Fishing Derby
DESCRIPTION:40th Annual Sertoma Ice Fishing Derby\n\nSunday\, February 3\, 2019\n\nFishing 1-3pm\n\nBIG Raffle Drawing (bright yellow ticket) 2pm - nearly $4\,000 in prizes\n\nGeneral Prize Drawing 3pm\n\nNorth side of Pebble Lake (public access through Delagoon Park)\n\n\n\nFree Entry. Free Fishing. Free Bait. Holes Drilled FREE. Free Kids Raffle/Prizes.  Concessions for sale. Contest for best fishing camps.\n\nBuy YELLOW Raffle Tickets ($2 each - need not be present to win) for a Chance to Win: \n\nYMCA Family Membership\, 55" LG LED TV\, $500 Fergus Home & Hardware Certificate\, $800 Cash Prizes & More!\n\n\n\n\n\nGIANT FREE KIDS PRIZE Giveaway (kids 15 & under)\n\n\n\n Holes pre-drilled by the West Otter Tail Chapter of the Minnesota Dark House and Angling Association.
X-ALT-DESC;FMTTYPE=text/html:<span style="font-size:12px\;"><span style="font-family:tahoma\;"><strong>40<sup>th</sup> Annual Sertoma Ice Fishing Derby</strong><br />\nSunday\, February 3\, 2019<br />\nFishing 1-3pm<br />\nBIG Raffle Drawing (bright yellow ticket) 2pm - nearly $4\,000 in prizes<br />\nGeneral Prize Drawing 3pm<br />\nNorth side of Pebble Lake (public access through Delagoon Park)<br />\n<br />\nFree Entry. Free Fishing. Free Bait<span style="line-height: 29.09px\;">. Holes Drilled FREE. Free Kids Raffle/Prizes.&nbsp\; Concessions for sale. Contest for best fishing camps.<br />\nBuy YELLOW Raffle Tickets ($2 each - need not be present to win) for a Chance to Win:&nbsp\;<br />\nYMCA Family Membership\, 55&quot\; LG LED TV\, $500 Fergus Home &amp\; Hardware Certificate\, $800 Cash Prizes &amp\; More!<br />\n<br />\n<br />\nGIANT FREE KIDS PRIZE Giveaway (kids 15 &amp\; under)</span><br />\n<br />\n<span style="line-height: 29.09px\;">&#8203\;</span>Holes pre-drilled by the West Otter Tail Chapter&nbsp\;of the Minnesota Dark House and Angling Association.</span></span>
LOCATION:North side of Pebble Lake Take Pebble Lake Road to Delagoon Park entrance\, continue to Public Access.
UID:e.314.52428
SEQUENCE:3
DTSTAMP:20260423T093757Z
URL:https://business.fergusfalls.com/events/details/40th-annual-sertoma-ice-fishing-derby-52428
END:VEVENT

END:VCALENDAR
