BEGIN:VCALENDAR
VERSION:2.0
PRODID:-//ChamberMaster//Event Calendar 2.0//EN
METHOD:PUBLISH
X-PUBLISHED-TTL:P3D
REFRESH-INTERVAL:P3D
CALSCALE:GREGORIAN
BEGIN:VEVENT
DTSTART:20160402T130000Z
DTEND:20160402T200000Z
X-MICROSOFT-CDO-ALLDAYEVENT:FALSE
SUMMARY:41st Annual Kiwanis Otter Risers Fertilizer & Coffee Sale
DESCRIPTION:Sale proceeds will be distributed to youth organizations in the community.
X-ALT-DESC;FMTTYPE=text/html:Sale proceeds will be distributed to youth organizations in the community.
LOCATION:Service Food Parking Lot and Door to Door
UID:e.314.32320
SEQUENCE:3
DTSTAMP:20260425T163432Z
URL:https://business.fergusfalls.com/events/details/41st-annual-kiwanis-otter-risers-fertilizer-coffee-sale-04-02-2016-32320
END:VEVENT

END:VCALENDAR
