BEGIN:VCALENDAR
VERSION:2.0
PRODID:-//ChamberMaster//Event Calendar 2.0//EN
METHOD:PUBLISH
X-PUBLISHED-TTL:P3D
REFRESH-INTERVAL:P3D
CALSCALE:GREGORIAN
BEGIN:VEVENT
DTSTART:20200202T190000Z
DTEND:20200202T210000Z
X-MICROSOFT-CDO-ALLDAYEVENT:FALSE
SUMMARY:41st Annual Sertoma "Off the Ice" Fishing Derby
DESCRIPTION:41st Annual Sertoma "Off the Ice" Fishing Derby\n\nSunday\, February 2\, 2020     1-3pm\n\nOver $4\,000 Prizes -- Raffles\n\nFREE Kids Games & Prizes (15 & younger)\n\n   KIDS BINGO\n\n\n	Indoor Ice Fishing\n	"Wheel of Fishing"\n	"Musical Buckets"\n\n\nGames & Prizes for Adults too -- Prize Drawings every 1/2 hour (chances $2 -- need not be present to win)\n\nBIG Raffle Drawing (yellow ticket) 2pm - nearly $4\,000 in prizes (Tickets available at the Fergus Falls Chamber office)\n\nDue to unsafe ice conditions on Pebble Lake\, this year's Sertoma Ice Fishing Derby will take place indoors at the Fergus Falls American Legion Post #30. Our local businesses have donated an enormous number of prizes for this fundraiser and we'll give them away at the Legion on SuperBowl Sunday. No need to dress warm\, haul a fish house or drill a hole -- just come to Legion and have fun!\n\nBuy Raffle Tickets ($2 each - need not be present to win) for a Chance to Win: \n\n\n	YMCA One Year FAMILY Membership ($905 value) - donated by YMCA\n	$500 Gift Card to Fergus Home & Hardware from Fergus Home & Hardware\n	TWO $500 Cash Prizes\, from Sertoma\n	49" 4K TV ($500 value)\, from Beyer Body Shop & Design Intent Architects\n	Quartz Watch ($249 value)\, from Mauk Jewelers\n	Eskimo Portable Fish House ($350 value)\, from Beyer Body Shop & Ottertail Minn-Dakota Coaches\n	Muck Boots Certificate ($180 value) from The Country Store\n	One Night Stay - any room @AmericInn Fergus Falls ($165 value)\, from AmericInn Lodge & Suites\n	Complete Vehicle Detail ($150 value) from Minnesota Motor Co.\n	Electric Grill ($150 value) from Otter Tail Power Co.\n	Complete Vehicle Detail from Quality Toyota\n	Three $100 Cash Prizes\, from Mark & Cathy Welle\, Rohde Insurance Services\, Denise & Scott DeMartelaere\n	$100 Service Food Gift Card\, from Mill Street Residence\n	Two $100 Fergus Bucks Prizes\, from Park Region/Ottertail Telcom\n	$100 Gift Certificate from Central Lakes Cycle\n	$100 Gift Certificate from The Market (Fergus Falls & Battle Lake)\n	Four $50 Cash Prizes\, from Mike Beyer\, Dianne Rodhe-Szarke\, Pam & Brad Bice\, Harvest Homes\n	Full Set of Acrylic Nails from Kim Neulieb @ ExSalonce\n	Two - 6 month subscriptions from The Daily Journal\n	4 Tickets to Red Hawks & 4 Tickets to Fargo Force games from Ottertail Minn-Dakota Coaches\n\n\nGIANT FREE KIDS PRIZE Giveaway (kids 15 & under)\n\nThank you for offering to drill holes: West Otter Tail Chapter of the Minnesota Dark House and Angling Association.\n\n\n\nclick here for Sertoma Poster
X-ALT-DESC;FMTTYPE=text/html:<p><span style="font-size: 14px\;"><span style="font-family: tahoma\;"><strong>41st Annual Sertoma &quot\;Off the Ice&quot\; Fishing Derby</strong><br />\nSunday\, February 2\, 2020&nbsp\; &middot\;&nbsp\; 1-3pm<br />\nOver $4\,000 Prizes -- Raffles<br />\nFREE Kids Games &amp\; Prizes (15 &amp\; younger)</span></span><br />\n&nbsp\;&nbsp\;&nbsp\;<span style="font-size: 11px\;"><span style="font-family: tahoma\;"><strong>KIDS BINGO</strong></span></span></p>\n\n<ul>\n	<li><span style="font-size: 11px\;"><span style="font-family: tahoma\;"><strong>Indoor Ice Fishing</strong></span></span></li>\n	<li><span style="font-size: 11px\;"><span style="font-family: tahoma\;"><strong>&quot\;Wheel of Fishing&quot\;</strong></span></span></li>\n	<li><span style="font-size: 11px\;"><span style="font-family: tahoma\;"><strong>&quot\;Musical Buckets&quot\;</strong></span></span></li>\n</ul>\n\n<p><span style="font-size: 11px\;"><span style="font-family: tahoma\;"><strong>Games &amp\; Prizes for Adults too -- Prize Drawings every 1/2 hour </strong>(chances $2 -- need not be present to win)<br />\n<strong>BIG Raffle Drawing (yellow ticket) 2pm - nearly $4\,000 in prizes </strong>(Tickets available at the Fergus Falls Chamber office)<br />\n<span style="line-height: 29.09px\;">Due to unsafe ice conditions on Pebble Lake\, this year&#39\;s Sertoma Ice Fishing Derby will take place indoors at the Fergus Falls American Legion Post #30. Our local businesses have donated an enormous number of prizes for this fundraiser and we&#39\;ll give them away at the Legion on SuperBowl Sunday. No need to dress warm\, haul a fish house or drill a hole -- just come to Legion and have fun!<br />\n<strong>Buy Raffle Tickets ($2 each - need not be present to win) for a Chance to Win:</strong><strong>&#8203\;</strong></span></span></span></p>\n\n<ul>\n	<li><span style="font-size: 11px\;"><span style="font-family: tahoma\;"><strong>YMCA One Year FAMILY Membership </strong>($905 value) - donated by YMCA</span></span></li>\n	<li><span style="font-size: 11px\;"><span style="font-family: tahoma\;"><strong>$500 Gift Card to Fergus Home &amp\; Hardware </strong>from Fergus Home &amp\; Hardware</span></span></li>\n	<li><span style="font-size: 11px\;"><span style="font-family: tahoma\;"><strong>TWO $500 Cash Prizes\, </strong>from Sertoma</span></span></li>\n	<li><span style="font-size: 11px\;"><span style="font-family: tahoma\;"><strong>49&quot\; 4K TV </strong>($500 value)\, from Beyer Body Shop &amp\; Design Intent Architects</span></span></li>\n	<li><span style="font-size: 11px\;"><span style="font-family: tahoma\;"><strong>Quartz Watch </strong>($249 value)\, from Mauk Jewelers</span></span></li>\n	<li><span style="font-size: 11px\;"><span style="font-family: tahoma\;"><strong>Eskimo Portable Fish House</strong> ($350 value)\, from Beyer Body Shop &amp\; Ottertail Minn-Dakota Coaches</span></span></li>\n	<li><span style="font-size: 11px\;"><span style="font-family: tahoma\;"><strong>Muck Boots Certificate </strong>($180 value) from The Country Store</span></span></li>\n	<li><span style="font-size: 11px\;"><span style="font-family: tahoma\;"><strong>One Night Stay</strong> - any room @AmericInn Fergus Falls ($165 value)\, from AmericInn Lodge &amp\; Suites</span></span></li>\n	<li><span style="font-size: 11px\;"><span style="font-family: tahoma\;"><strong>Complete Vehicle Detail</strong> ($150 value) from Minnesota Motor Co.</span></span></li>\n	<li><span style="font-size: 11px\;"><span style="font-family: tahoma\;"><strong>Electric Grill </strong>($150 value) from Otter Tail Power Co.</span></span></li>\n	<li><span style="font-size: 11px\;"><span style="font-family: tahoma\;"><strong>Complete Vehicle Detail</strong> from Quality Toyota</span></span></li>\n	<li><span style="font-size: 11px\;"><span style="font-family: tahoma\;"><strong>Three $100 Cash Prizes\, </strong>from Mark &amp\; Cathy Welle\, Rohde Insurance Services\, Denise &amp\; Scott DeMartelaere</span></span></li>\n	<li><span style="font-size: 11px\;"><span style="font-family: tahoma\;"><strong>$100 Service Food Gift Card</strong>\, from Mill Street Residence</span></span></li>\n	<li><span style="font-size: 11px\;"><span style="font-family: tahoma\;"><strong>Two $100 Fergus Bucks Prizes</strong>\, from Park Region/Ottertail Telcom</span></span></li>\n	<li><strong><span style="font-size: 11px\;"><span style="font-family: tahoma\;">$100 Gift Certificate from Central Lakes Cycle</span></span></strong></li>\n	<li><span style="font-size: 11px\;"><span style="font-family: tahoma\;"><strong>$100 Gift Certificate from The Market</strong> (Fergus Falls &amp\; Battle Lake)</span></span></li>\n	<li><span style="font-size: 11px\;"><span style="font-family: tahoma\;"><strong>Four $50 Cash Prizes</strong>\, from Mike Beyer\, Dianne Rodhe-Szarke\, Pam &amp\; Brad Bice\, Harvest Homes</span></span></li>\n	<li><font face="tahoma"><span style="font-size: 11px\;"><strong>Full Set of Acrylic Nails </strong>from Kim Neulieb @ ExSalonce</span></font></li>\n	<li><strong><font face="tahoma"><span style="font-size: 11px\;">Two - 6 month subscriptions from The Daily Journal</span></font></strong></li>\n	<li><font face="tahoma"><span style="font-size: 11px\;"><strong>4 Tickets to Red Hawks &amp\; 4 Tickets to Fargo Force games</strong> from Ottertail Minn-Dakota Coaches</span></font></li>\n</ul>\n\n<p><span style="font-size: 11px\;"><span style="font-family: tahoma\;"><span style="line-height: 29.09px\;">GIANT FREE KIDS PRIZE Giveaway (kids 15 &amp\; under)</span><br />\nThank you for offering to drill holes: West Otter Tail Chapter&nbsp\;of the Minnesota Dark House and Angling Association.</span></span><br />\n<br />\n<a href="https://chambermaster.blob.core.windows.net/userfiles/UserFiles/chambers/314/File/sertoma_off_the_ice_derby2020.pdf">click here for Sertoma Poster</a></p>\n
LOCATION:American Legion Post #30 2010 S. Pebble Lake Rd. Fergus Falls\, MN
UID:e.314.56102
SEQUENCE:3
DTSTAMP:20260422T160317Z
URL:https://business.fergusfalls.com/events/details/41st-annual-sertoma-off-the-ice-fishing-derby-56102
END:VEVENT

END:VCALENDAR
