BEGIN:VCALENDAR
VERSION:2.0
PRODID:-//ChamberMaster//Event Calendar 2.0//EN
METHOD:PUBLISH
X-PUBLISHED-TTL:P3D
REFRESH-INTERVAL:P3D
CALSCALE:GREGORIAN
BEGIN:VEVENT
DTSTART:20160713T220000Z
DTEND:20160714T000000Z
X-MICROSOFT-CDO-ALLDAYEVENT:FALSE
SUMMARY:4k & 7 Beers Ago Fun Run - 2016 (Shop Move Groove)
DESCRIPTION:Start & Finish line near Union Avenue Pizza & Brewing CO. Stay around and enjoy food and craft beer (or root beer) following the race! All participants will receive a pint glass and one free beer (or root beer).\n\nThe 2016 run will coincide with the Shop\, Move\, & Groove event that will be held in downtown Fergus Falls. Come to Fergus Falls for an afternoon and evening of fun!\n\nEvent details and schedule\n\nRace day registration and packet pick-up will start at 5:00pm. Race day registration is $30. Race starts at 6:00pm. Please bring ID's for those over 21 years old.
X-ALT-DESC;FMTTYPE=text/html:<p>Start &amp\; Finish line near <a href="https://www.facebook.com/UnionPizzaBrewing?fref=ts" target="_blank"><font color="#0066cc">Union Avenue Pizza &amp\; Brewing CO.</font></a> Stay around and enjoy food and craft beer (or root beer) following the race! All participants will receive a pint glass and one free beer (or root beer).</p>\n\n<p>The 2016 run will coincide with the <a href="http://www.fergusfalls.com/events/details/shop-move-groove-downtown-fergus-falls-26455" target="_blank"><font color="#0066cc">Shop\, Move\, &amp\; Groove</font></a> event that will be held in downtown Fergus Falls. Come to Fergus Falls for an afternoon and evening of fun!</p>\n\n<h4>Event details and schedule</h4>\n\n<p>Race day registration and packet pick-up will start at 5:00pm. Race day registration is $30. Race starts at 6:00pm. Please bring ID&#39\;s for those over 21 years old.</p>\n
LOCATION:Start & Finish line near Union Avenue Pizza & Brewing CO.
UID:e.314.32621
SEQUENCE:3
DTSTAMP:20260425T112141Z
URL:https://business.fergusfalls.com/events/details/4k-7-beers-ago-fun-run-2016-shop-move-groove-07-13-2016-32621
END:VEVENT

END:VCALENDAR
