BEGIN:VCALENDAR
VERSION:2.0
PRODID:-//ChamberMaster//Event Calendar 2.0//EN
METHOD:PUBLISH
X-PUBLISHED-TTL:P3D
REFRESH-INTERVAL:P3D
CALSCALE:GREGORIAN
BEGIN:VEVENT
DTSTART:20180809T230000Z
DTEND:20180810T020000Z
X-MICROSOFT-CDO-ALLDAYEVENT:FALSE
SUMMARY:4k & 7 Beers Ago Fun Run
DESCRIPTION:Join us for the 4th Annual 4k & 7 Beers Ago Fun run! All participants will receive a free pint glass and a free beer or root beer following the race!
X-ALT-DESC;FMTTYPE=text/html:<div class="_5xhp fsm fwn fcg"><span>Join us for the 4th Annual 4k &amp\; 7 Beers Ago Fun run! All participants will receive a free pint glass and a free beer or root beer following the race!</span></div>\n
LOCATION:Union Pizza & Brewing CO. 114 S Union Ave\, Fergus Falls
UID:e.314.50307
SEQUENCE:3
DTSTAMP:20260423T180952Z
URL:https://business.fergusfalls.com/events/details/4k-7-beers-ago-fun-run-50307
END:VEVENT

END:VCALENDAR
