BEGIN:VCALENDAR
VERSION:2.0
PRODID:-//ChamberMaster//Event Calendar 2.0//EN
METHOD:PUBLISH
X-PUBLISHED-TTL:P3D
REFRESH-INTERVAL:P3D
CALSCALE:GREGORIAN
BEGIN:VEVENT
DTSTART:20210819T230000Z
DTEND:20210820T010000Z
X-MICROSOFT-CDO-ALLDAYEVENT:FALSE
SUMMARY:4k and 7 Beers Ago Fun Run
DESCRIPTION:Come and join us for our Tall (4k-ish) and Short (3 blocks?) fun runs! Start & finish on Stanton Avenue near Union Pizza & Brewing Company. Stick around after the race and enjoy food and craft beer (or root beer) with your fellow athletes! All participants will receive a commemorative pint glass with one free fill of the beverage of your choice.
X-ALT-DESC;FMTTYPE=text/html:Come and join us for our Tall (4k-ish) and Short (3 blocks?) fun runs! Start &amp\; finish on Stanton Avenue near Union Pizza &amp\; Brewing Company. Stick around after the race and enjoy food and craft beer (or root beer) with your fellow athletes! All participants will receive a commemorative pint glass with one free fill of the beverage of your choice.
LOCATION:Union Pizza and Brewing Company
UID:e.314.63339
SEQUENCE:3
DTSTAMP:20260421T102317Z
URL:https://business.fergusfalls.com/events/details/4k-and-7-beers-ago-fun-run-63339
END:VEVENT

END:VCALENDAR
