BEGIN:VCALENDAR
VERSION:2.0
PRODID:-//ChamberMaster//Event Calendar 2.0//EN
METHOD:PUBLISH
X-PUBLISHED-TTL:P3D
REFRESH-INTERVAL:P3D
CALSCALE:GREGORIAN
BEGIN:VEVENT
DTSTART:20161106T210000Z
DTEND:20161107T000000Z
X-MICROSOFT-CDO-ALLDAYEVENT:FALSE
SUMMARY:4th Annual Family Bingo Event
DESCRIPTION:All proceeds benefit Women's Leadership Council Prescription for Reading Program.\n\n\n\nAt VFW of Fergus Falls\n\n420 E Washington Ave
X-ALT-DESC;FMTTYPE=text/html:<span class="_4n-j fsl">All proceeds benefit Women&#39\;s Leadership Council Prescription for Reading Program.<br />\n<br />\nAt VFW of Fergus Falls<br />\n420 E Washington Ave</span>
LOCATION:VFW Fergus Falls
UID:e.314.36577
SEQUENCE:3
DTSTAMP:20260425T040641Z
URL:https://business.fergusfalls.com/events/details/4th-annual-family-bingo-event-36577
END:VEVENT

END:VCALENDAR
