BEGIN:VCALENDAR
VERSION:2.0
PRODID:-//ChamberMaster//Event Calendar 2.0//EN
METHOD:PUBLISH
X-PUBLISHED-TTL:P3D
REFRESH-INTERVAL:P3D
CALSCALE:GREGORIAN
BEGIN:VEVENT
DTSTART:20151031T203000Z
DTEND:20151031T233000Z
X-MICROSOFT-CDO-ALLDAYEVENT:FALSE
SUMMARY:4th Annual Halloween Family Fun Night
DESCRIPTION:Area families are invited to the Halloween festivities on the Fergus Falls campus of Minnesota State Community and Technical College during the college's 4th Annual Halloween Family Fun Night.\n\nFrom 3:30 to 6 p.m. on Wednesday\, Oct. 31\, there will be candy\, games\, arts\, crafts\, face painting and other activities for children of all ages. Events are sponsored by the College Ambassadors and will be held in Legacy Hall (the front entrance of the campus).\n\nFor more information\, call 218-736-1533.\n\nFamily Fun Night is supported this year by donations from Service Food Market\, Target\, Walmart and Sun Mart.
X-ALT-DESC;FMTTYPE=text/html:<p>Area families are invited to the Halloween festivities on the Fergus Falls campus of Minnesota State Community and Technical College during the college&rsquo\;s 4<sup><font size="2">th</font></sup> Annual Halloween Family Fun Night.</p>\n\n<p>From 3:30 to 6 p.m. on Wednesday\, Oct. 31\, there will be candy\, games\, arts\, crafts\, face painting and other activities for children of all ages. Events are sponsored by the College Ambassadors and will be held in Legacy Hall (the front entrance of the campus).</p>\n\n<p>For more information\, call 218-736-1533.</p>\n\n<p>Family Fun Night is supported this year by donations from Service Food Market\, Target\, Walmart and Sun Mart.</p>\n
LOCATION:Legacy Hall\, M State 1414 College Way Fergus Falls\, MN 56537
UID:e.314.25985
SEQUENCE:3
DTSTAMP:20260426T030427Z
URL:https://business.fergusfalls.com/events/details/4th-annual-halloween-family-fun-night-10-31-2015-25985
END:VEVENT

END:VCALENDAR
