BEGIN:VCALENDAR
VERSION:2.0
PRODID:-//ChamberMaster//Event Calendar 2.0//EN
METHOD:PUBLISH
X-PUBLISHED-TTL:P3D
REFRESH-INTERVAL:P3D
CALSCALE:GREGORIAN
BEGIN:VEVENT
DTSTART;VALUE=DATE:20190910
DTEND;VALUE=DATE:20190911
TRANSP:TRANSPARENT
X-MICROSOFT-CDO-ALLDAYEVENT:TRUE
SUMMARY:$5 All Movies ALL Day* CEC Theatres
DESCRIPTION:CEC Theatres  Gives You $5 Tuesdays! \n\nALL MOVIES- ALL DAY* \n\n\n\nFree 44oz. popcorn with purchase of any drink*\n\n*Every Tuesday\n\n* Additional fees may apply for 3D
X-ALT-DESC;FMTTYPE=text/html:<strong>CEC Theatres&nbsp\; Gives You $5 Tuesdays! </strong><br />\n<strong><em>ALL MOVIES- ALL DAY* </em><br />\n<br />\nFree 44oz. popcorn with purchase of any drink*</strong><br />\n*<span style="font-size: 9px\;">Every Tuesday</span><br />\n<span style="font-size: 9px\;">* Additional fees may apply for 3D</span>
LOCATION:Westridge Theatre 2001 Lincoln Ave West Fergus Falls\, MN 56537
UID:e.314.31301
SEQUENCE:3
DTSTAMP:20260422T223250Z
URL:https://business.fergusfalls.com/events/details/5-all-movies-all-day-cec-theatres-09-10-2019-31301
END:VEVENT

END:VCALENDAR
