BEGIN:VCALENDAR
VERSION:2.0
PRODID:-//ChamberMaster//Event Calendar 2.0//EN
METHOD:PUBLISH
X-PUBLISHED-TTL:P3D
REFRESH-INTERVAL:P3D
CALSCALE:GREGORIAN
BEGIN:VEVENT
DTSTART:20171027T170000Z
DTEND:20171028T000000Z
X-MICROSOFT-CDO-ALLDAYEVENT:FALSE
SUMMARY:50th Anniversary Open house
DESCRIPTION:Open House\, lunch\, appetizers.
X-ALT-DESC;FMTTYPE=text/html:Open House\, lunch\, appetizers.
LOCATION:Ringdahl Ambulance Service 214 East Junius Ave Fergus Falls\, MN.
UID:e.314.42884
SEQUENCE:3
DTSTAMP:20260424T092412Z
URL:https://business.fergusfalls.com/events/details/50th-anniversary-open-house-42884
END:VEVENT

END:VCALENDAR
