BEGIN:VCALENDAR
VERSION:2.0
PRODID:-//ChamberMaster//Event Calendar 2.0//EN
METHOD:PUBLISH
X-PUBLISHED-TTL:P3D
REFRESH-INTERVAL:P3D
CALSCALE:GREGORIAN
BEGIN:VEVENT
DTSTART:20171027T170000Z
DTEND:20171027T180000Z
X-MICROSOFT-CDO-ALLDAYEVENT:FALSE
SUMMARY:50th Anniversary OPEN HOUSE - Ringdahl Ambulance
DESCRIPTION:Ringdahl Ambulance 50 Years of serving Fergus Falls and surrounding communities.  It has been our honor to serve and care for you. \n\nCome celebrate with us!\n\n\n\nSocial & Lunch starting at noon on Friday October 27th.
X-ALT-DESC;FMTTYPE=text/html:<div class="mn-news-details-bodytext mn-raw" style="background: none\; margin: 0px\; padding: 0px\; border-radius: 0px\; border: currentColor\; left: auto\; top: auto\; width: auto\; height: auto\; text-align: inherit\; right: auto\; bottom: auto\; color: inherit\; text-transform: inherit\; line-height: 1.3\; text-indent: inherit\; letter-spacing: inherit\; overflow: visible\; clear: none\; font-family: inherit\; font-size: inherit\; font-style: inherit\; font-variant: inherit\; font-weight: inherit\; text-decoration: none\; word-spacing: inherit\; vertical-align: baseline\; float: none\; display: block\; white-space: inherit\; visibility: inherit\; border-collapse: separate\; position: static\; z-index: auto\; table-layout: auto\; direction: inherit\; word-break: inherit\; word-wrap: inherit\; text-overflow: clip\; max-height: none\; max-width: none\; content: normal\; box-sizing: content-box\; empty-cells: show\; font-stretch: inherit\; opacity: 1\; box-shadow: none\; outline-offset: 0px\; resize: none\;">Ringdahl Ambulance 50 Years of serving Fergus Falls and surrounding communities.&nbsp\; It has been our honor to serve and care for you.&nbsp\;<br />\nCome celebrate with us!<br />\n<br />\nSocial &amp\; Lunch starting at noon on Friday October 27th.</div>\n\n<div class="mn-news-details-contacttext" style="background: none\; font: inherit\; margin: 0px\; padding: 0px\; border-radius: 0px\; border: currentColor\; left: auto\; top: auto\; width: auto\; height: auto\; text-align: inherit\; right: auto\; bottom: auto\; color: inherit\; text-transform: inherit\; text-indent: inherit\; letter-spacing: inherit\; overflow: visible\; clear: none\; text-decoration: none\; word-spacing: inherit\; vertical-align: baseline\; float: none\; display: block\; white-space: inherit\; visibility: inherit\; border-collapse: separate\; position: static\; z-index: auto\; table-layout: auto\; direction: inherit\; word-break: inherit\; word-wrap: inherit\; text-overflow: clip\; max-height: none\; max-width: none\; content: normal\; box-sizing: content-box\; empty-cells: show\; font-size-adjust: inherit\; font-stretch: inherit\; opacity: 1\; box-shadow: none\; outline-offset: 0px\; resize: none\;">&nbsp\;</div>\n
LOCATION:
UID:e.314.42871
SEQUENCE:3
DTSTAMP:20260424T092733Z
URL:https://business.fergusfalls.com/events/details/50th-anniversary-open-house-ringdahl-ambulance-42871
END:VEVENT

END:VCALENDAR
