BEGIN:VCALENDAR
VERSION:2.0
PRODID:-//ChamberMaster//Event Calendar 2.0//EN
METHOD:PUBLISH
X-PUBLISHED-TTL:P3D
REFRESH-INTERVAL:P3D
CALSCALE:GREGORIAN
BEGIN:VEVENT
DTSTART:20160109T140000Z
DTEND:20160110T010000Z
X-MICROSOFT-CDO-ALLDAYEVENT:FALSE
SUMMARY:56th Annual Indoor Used Car Sale at MN Motor Co.
DESCRIPTION:The Granddaddy of them all! The biggest and original indoor used car sale!\n\nYou are welcome to join us for our 56th annual indoor used vehicle sale on Saturday January 9th 2016 from 8AM -7PM.\n\nWe'll have 200 used vehicles offered and about 120 units inside.  Every purchase on the sale day only includes a gift card for\n\nfree oil changes and car washes for 1 year (3 oil changes and 20 basic car washes).\n\nEven if you're not in the market for a vehicle we hope to see you here.  It's a great time to enjoy  free refreshments and visit with your neighbors.
X-ALT-DESC;FMTTYPE=text/html:The Granddaddy of them all! The biggest and original indoor used car sale!<br />\nYou are welcome to join us for our 56th annual indoor used vehicle sale on Saturday January 9th 2016 from 8AM -7PM.<br />\nWe&#39\;ll have 200 used vehicles offered and about 120 units inside. &nbsp\;Every purchase on the sale day only includes a gift card for<br />\nfree oil changes and car washes for 1 year (3 oil changes and 20 basic car washes).<br />\nEven if you&#39\;re not in the market for a vehicle we hope to see you here.&nbsp\; It&#39\;s a great time to enjoy&nbsp\; free refreshments and&nbsp\;visit with your neighbors. &nbsp\;<br />\n&nbsp\;
LOCATION:Minnesota Motor Company 1108 S. Pebble Lake Rd. Fergus Falls\, MN
UID:e.314.28216
SEQUENCE:3
DTSTAMP:20260425T215758Z
URL:https://business.fergusfalls.com/events/details/56th-annual-indoor-used-car-sale-at-mn-motor-co-01-09-2016-28216
END:VEVENT

END:VCALENDAR
