BEGIN:VCALENDAR
VERSION:2.0
PRODID:-//ChamberMaster//Event Calendar 2.0//EN
METHOD:PUBLISH
X-PUBLISHED-TTL:P3D
REFRESH-INTERVAL:P3D
CALSCALE:GREGORIAN
BEGIN:VEVENT
DTSTART:20170114T140000Z
DTEND:20170115T010000Z
X-MICROSOFT-CDO-ALLDAYEVENT:FALSE
SUMMARY:57th Annual Indoor Sale
DESCRIPTION:Join us for the 57th Annual Indoor Used Car Sale! One day only - January 14\, 8am - 7pm! We move our pre-owned inventory indoors\, so you can shop in comfort. Each vehicle is priced to move and and includes a free year of car washes and oil changes!
X-ALT-DESC;FMTTYPE=text/html:<span class="_4n-j _3cht fsl">Join us for the 57th Annual Indoor Used Car Sale! One day only - January 14\, 8am - 7pm! We move our pre-owned inventory indoors\, so you can shop in comfort. Each vehicle is priced to move and and includes a free year of car washes and oil changes!</span>
LOCATION:Minnesota Motor Company 1108 Pebble Lake Rd\, Fergus Falls\, Minnesota 56537
UID:e.314.37515
SEQUENCE:3
DTSTAMP:20260425T003252Z
URL:https://business.fergusfalls.com/events/details/57th-annual-indoor-sale-37515
END:VEVENT

END:VCALENDAR
