BEGIN:VCALENDAR
VERSION:2.0
PRODID:-//ChamberMaster//Event Calendar 2.0//EN
METHOD:PUBLISH
X-PUBLISHED-TTL:P3D
REFRESH-INTERVAL:P3D
CALSCALE:GREGORIAN
BEGIN:VEVENT
DTSTART:20160329T220000Z
DTEND:20160330T003000Z
X-MICROSOFT-CDO-ALLDAYEVENT:FALSE
SUMMARY:5th Tuesday Noon Kiwanis Social!
DESCRIPTION:We're INVITING YOU!  See what happens at the Fergus Falls Noon Kiwanis Club during our 5th Tuesday Noon Kiwanis Social.  \n\n\n\nWe're meeting at Union Pizza and Brewing Company around 5:00 pm on Tuesday\, March 29th to welcome you (and your friends) to visit and learn more about Noon Kiwanis projects like Lake Alice Ice Skating and the Easter Egg Hunt (plus there's more).\n\n\n\nThe Noon Kiwanis is active in serving the children in our community through fundraisers\, projects and volunteering.  \n\n\n\n#FunClub
X-ALT-DESC;FMTTYPE=text/html:<div>\n<p><strong><span style="font-size:16px\;"><span style="font-family: calibri\, sans-serif\;">We&#39\;re INVITING YOU! &nbsp\;See what happens at the Fergus Falls Noon Kiwanis Club during our 5th Tuesday Noon Kiwanis Social</span></span></strong><span style="font-family:calibri\,sans-serif\; font-size:11pt"><span style="font-size:16px\;"><strong>. </strong>&nbsp\;</span></span><br />\n<br />\n<span style="color:#000000"><span style="font-family:calibri\,sans-serif\; font-size:11pt">We&#39\;re meeting at Union Pizza and Brewing Company around 5:00 pm on Tuesday\, March 29th to welcome you (and your friends) to visit and learn more about Noon Kiwanis projects like Lake Alice Ice Skating and the Easter Egg Hunt (plus there&#39\;s more).<br />\n<br />\nThe Noon Kiwanis is active in serving the children in our community through fundraisers\, projects and volunteering. &nbsp\;</span></span><br />\n<br />\n<strong><span style="color:#0000FF\;"><span style="font-family:calibri\,sans-serif\; font-size:11pt">#FunClub</span></span></strong></p>\n</div>\n
LOCATION:Union Pizza and Brewing Company 114 South Union Avenue Fergus Falls\, MN
UID:e.314.32060
SEQUENCE:3
DTSTAMP:20260425T182410Z
URL:https://business.fergusfalls.com/events/details/5th-tuesday-noon-kiwanis-social-03-29-2016-32060
END:VEVENT

END:VCALENDAR
