BEGIN:VCALENDAR
VERSION:2.0
PRODID:-//ChamberMaster//Event Calendar 2.0//EN
METHOD:PUBLISH
X-PUBLISHED-TTL:P3D
REFRESH-INTERVAL:P3D
CALSCALE:GREGORIAN
BEGIN:VEVENT
DTSTART:20200118T140000Z
DTEND:20200119T010000Z
X-MICROSOFT-CDO-ALLDAYEVENT:FALSE
SUMMARY:60th Annual Indoor Sale @ Minnesota Motor Co.
DESCRIPTION:Join us for the 60th Annual Indoor Used Car Sale! One day only - Saturday\, January 18\, 8am - 7pm! We move our pre-owned inventory indoors\, so you can shop in comfort. Each vehicle is priced to move and and includes a free year of car washes and oil changes!
X-ALT-DESC;FMTTYPE=text/html:<span class="_4n-j _3cht fsl">Join us for the 60th Annual Indoor Used Car Sale! One day only - Saturday\, January 18\, 8am - 7pm! We move our pre-owned inventory indoors\, so you can shop in comfort. Each vehicle is priced to move and and includes a free year of car washes and oil changes!</span>
LOCATION:Minnesota Motor Co. 1108 Pebble Lake Rd. Fergus Falls\, MN
UID:e.314.56103
SEQUENCE:3
DTSTAMP:20260422T172408Z
URL:https://business.fergusfalls.com/events/details/60th-annual-indoor-sale-minnesota-motor-co-56103
END:VEVENT

END:VCALENDAR
