BEGIN:VCALENDAR
VERSION:2.0
PRODID:-//ChamberMaster//Event Calendar 2.0//EN
METHOD:PUBLISH
X-PUBLISHED-TTL:P3D
REFRESH-INTERVAL:P3D
CALSCALE:GREGORIAN
BEGIN:VEVENT
DTSTART;VALUE=DATE:20190921
DTEND;VALUE=DATE:20190922
TRANSP:TRANSPARENT
X-MICROSOFT-CDO-ALLDAYEVENT:TRUE
SUMMARY:6th Annual Boots On The Ground Veterans Motorcycle Fun Run
DESCRIPTION:Come join us as we support our Veterans Home. Registration 8 a.m.only day of at the Veterans Home. Ceremony at 10 a.m. Kick stands up at 12. Ending at 5:30 p.m. at VFW Post 612 in Fergus Falls. Maps provided at registration. Street dance (weather permitting) with Jacked Up.
X-ALT-DESC;FMTTYPE=text/html:<div class="_63ew" data-testid="event-permalink-details"><span>Come join us as we support our Veterans Home. Registration 8 a.m.only day of at the Veterans Home. Ceremony at 10 a.m. Kick stands up at 12. Ending at 5:30 p.m. at VFW Post 612 in Fergus Falls. Maps provided at registration. Street dance (weather permitting) with Jacked Up. </span></div>\n
LOCATION:Mn Veterans Home Fergus Falls 1821 Park St\, Fergus Falls\, Minnesota
UID:e.314.54574
SEQUENCE:3
DTSTAMP:20260422T222657Z
URL:https://business.fergusfalls.com/events/details/6th-annual-boots-on-the-ground-veterans-motorcycle-fun-run-54574
END:VEVENT

END:VCALENDAR
