BEGIN:VCALENDAR
VERSION:2.0
PRODID:-//ChamberMaster//Event Calendar 2.0//EN
METHOD:PUBLISH
X-PUBLISHED-TTL:P3D
REFRESH-INTERVAL:P3D
CALSCALE:GREGORIAN
BEGIN:VEVENT
DTSTART:20190418T140000Z
DTEND:20190418T213000Z
X-MICROSOFT-CDO-ALLDAYEVENT:FALSE
SUMMARY:6th Annual Emergency Management Summit
DESCRIPTION:6th Annual Emergency Management Summit\n\nIf the Power Goes\, Make Sure Your Business Stays\n\n8:30-9:00 Registration\n\n9:00-12:30 Trainings and Educational Session\n\n12:30-1:00 LUNCH\n\n1:00-3:30 Interactive & Hands-On Exercise\n\n3:30-4:00 Press Conference Simulation\n\n4:00-4:30 Summit Review\n\n"Come When You Can\, and Leave When You Like"\n\nLocation: Ottertail Operations Center
X-ALT-DESC;FMTTYPE=text/html:<h1 class="SUGHeaderText" style="box-sizing: border-box\; -webkit-font-smoothing: antialiased\; font-size: 28pt\; margin: 4px 0px 12px\; font-family: Lato\, sans-serif\; font-weight: 700\; line-height: 28pt\; color: rgb(254\, 190\, 23)\; padding-top: 0px\; background-color: rgb(23\, 103\, 159)\;">6th Annual Emergency Management Summit</h1>\n\n<p style="box-sizing: border-box\; -webkit-font-smoothing: antialiased\; margin: 0px 0px 2rem\; font-size: 16px\; color: rgb(255\, 255\, 255)\; font-family: Helvetica\, Arial\, sans-serif\; background-color: rgb(23\, 103\, 159)\;"><span style="box-sizing: border-box\; -webkit-font-smoothing: antialiased\; color: rgb(255\, 140\, 0)\;"><strong style="box-sizing: border-box\; -webkit-font-smoothing: antialiased\;">If the Power Goes\, Make Sure Your Business Stays</strong></span></p>\n\n<p style="box-sizing: border-box\; -webkit-font-smoothing: antialiased\; margin: 0px 0px 2rem\; font-size: 16px\; color: rgb(255\, 255\, 255)\; font-family: Helvetica\, Arial\, sans-serif\; background-color: rgb(23\, 103\, 159)\;">8:30-9:00 Registration<br style="box-sizing: border-box\;" />\n9:00-12:30 Trainings and Educational Session<br style="box-sizing: border-box\;" />\n12:30-1:00 LUNCH<br style="box-sizing: border-box\;" />\n1:00-3:30 Interactive &amp\; Hands-On Exercise<br style="box-sizing: border-box\;" />\n3:30-4:00 Press Conference Simulation<br style="box-sizing: border-box\;" />\n4:00-4:30 Summit Review</p>\n\n<p style="box-sizing: border-box\; -webkit-font-smoothing: antialiased\; margin: 0px 0px 2rem\; font-size: 16px\; color: rgb(255\, 255\, 255)\; font-family: Helvetica\, Arial\, sans-serif\; background-color: rgb(23\, 103\, 159)\;">&quot\;Come When You Can\, and Leave When You Like&quot\;</p>\n\n<p style="box-sizing: border-box\; -webkit-font-smoothing: antialiased\; margin: 0px 0px 2rem\; font-size: 16px\; color: rgb(255\, 255\, 255)\; font-family: Helvetica\, Arial\, sans-serif\; background-color: rgb(23\, 103\, 159)\;"><strong style="box-sizing: border-box\; -webkit-font-smoothing: antialiased\;">Location:&nbsp\;</strong>Ottertail Operations Center</p>\n
LOCATION:Ottertail Operations Center 469 Main St. Ottertail\, MN
UID:e.314.53035
SEQUENCE:3
DTSTAMP:20260423T062955Z
URL:https://business.fergusfalls.com/events/details/6th-annual-emergency-management-summit-53035
END:VEVENT

END:VCALENDAR
