BEGIN:VCALENDAR
VERSION:2.0
PRODID:-//ChamberMaster//Event Calendar 2.0//EN
METHOD:PUBLISH
X-PUBLISHED-TTL:P3D
REFRESH-INTERVAL:P3D
CALSCALE:GREGORIAN
BEGIN:VEVENT
DTSTART:20160423T220000Z
DTEND:20160424T000000Z
X-MICROSOFT-CDO-ALLDAYEVENT:FALSE
SUMMARY:6th Annual Humane Society of Otter Tail County Spring Fundraiser
DESCRIPTION:Please join us at the Fergus Falls Eagles Club to help raise money for the Humane Society of Otter Tail County at our 6th Annual Spring Fundraiser. The event is April 23\, 2016 with the meal starting at 5pm and Silent Auction\, an evening of fun filled activities:\n\n\n	Dinner with Giving Bean Coffee\n	Silent Auction\n	Face Painting\n	Fun Doggie Accessories\n	Dog Kissing Booth\n	Bean Bag Toss for Cupcakes\n\nPlease let us know if you have something to donate or want to volunteer. More details to follow.
X-ALT-DESC;FMTTYPE=text/html:<span class="_fbReactionComponent__eventDetailsContent fsl">Please join us at the Fergus Falls Eagles Club to help raise money for the Humane Society of Otter Tail County at our 6th Annual Spring Fundraiser. The event is April 23\, 2016 with the meal starting at 5pm and Silent Auction\,&nbsp\;an evening of fun filled activities:</span>\n\n<ul>\n	<li><span class="_fbReactionComponent__eventDetailsContent fsl">Dinner with Giving Bean Coffee</span></li>\n	<li><span class="_fbReactionComponent__eventDetailsContent fsl">Silent Auction</span></li>\n	<li><span class="_fbReactionComponent__eventDetailsContent fsl">Face Painting</span></li>\n	<li><span class="_fbReactionComponent__eventDetailsContent fsl">Fun Doggie Accessories</span></li>\n	<li><span class="_fbReactionComponent__eventDetailsContent fsl">Dog Kissing Booth</span></li>\n	<li><span class="_fbReactionComponent__eventDetailsContent fsl">Bean Bag Toss for Cupcakes</span></li>\n</ul>\n<span class="_fbReactionComponent__eventDetailsContent fsl">Please let us know if you have something to donate or want to volunteer. More details to follow.</span>
LOCATION:Fergus Falls Eagles Club at 120 S. Peck Street in Fergus Falls
UID:e.314.32052
SEQUENCE:3
DTSTAMP:20260425T163518Z
URL:https://business.fergusfalls.com/events/details/6th-annual-humane-society-of-otter-tail-county-spring-fundraiser-04-23-2016-32052
END:VEVENT

END:VCALENDAR
