BEGIN:VCALENDAR
VERSION:2.0
PRODID:-//ChamberMaster//Event Calendar 2.0//EN
METHOD:PUBLISH
X-PUBLISHED-TTL:P3D
REFRESH-INTERVAL:P3D
CALSCALE:GREGORIAN
BEGIN:VEVENT
DTSTART:20151114T153000Z
DTEND:20151114T190000Z
X-MICROSOFT-CDO-ALLDAYEVENT:FALSE
SUMMARY:6th Annual Turkey Trot hosted by United Way of Ottertail County
DESCRIPTION:6th Annual Turkey Trot 10K\, 5K and 1 Mile Fun Run\n\n\n\n\n \n\n*Register before October 1st for the best deal!\n\n*Long-sleeve t-shirts for all 5K and 10K registrants! (Register by November 6th to guarantee a shirt on race day\; directions will be given on shirt pick-up if you register after this date.)\n\n*All 5K and 10K registrants will be entered in to a drawing for a two-night stay at East Silent Resort! Check out the website at www.eastsilentresort.com.\n\n*The Turkey Trot is the last event in the Fergus Falls Area Race Series. Find more information at FFRaces.com.\n\n \n\nRegistration Information:\n\n-Online registration closes November 12th at 9:00 PM.\n\n-Registration opens 7:30 AM on race day.\n\n- 1 mile start is 8:30 AM. Fee is $5.\n\n-5K start is  9:00 AM.  Fee is $20 until 9-30\, $25 10-1 to 10-31\, and $30 11-1 to race day.\n\n-10K start is 9:00 AM.  Fee is $25 until 9-30\, $30 10-1 to 10-31\, and $35 11-1 to race day.\n\n-All races will be chip timed.\n\n- Registration\, check-in\, post-race snacks and awards ceremony held in Kennedy Secondary School foyer.\n\n \n\nPrizes for the top three male and female finishers in the 5K and 10K\n\nPrizes for the top 3 one mile finishers\n\nPrizes for Best Costume! \n\nSeries awards will be announced immediately following the 5K and 10K.\n\nRunners and walkers welcome.  Strollers welcome\; for safety\, no dogs please. \n\nEnjoy a beautiful walk or run in the crisp air through the lovely neighborhoods of  Fergus Falls!\n\nProceeds benefit Children's Services Association\, a program of the United Way. Thank you for your support!\n\nPacket pick-up available Friday\, November 13th\, 4-7 PM\, if you register prior to November 12th\, at the United Way office\, 120 E. Washington Avenue\, Fergus Falls\, MN. Will also be available race day morning starting at 7:30 AM.\n\n\n\nNo refunds. If you are unable to race for any reason\, please consider your registration a donation to the Children's Services Association. Thank you.
X-ALT-DESC;FMTTYPE=text/html:<div style="left: 0pt\; overflow: hidden\; margin-top: 180px\;">&nbsp\;</div>\n\n<div class="registration"><span style="font-size: 20px\;"><strong>6th Annual Turkey Trot 10K\, 5K and 1 Mile Fun Run</strong></span></div>\n\n<div class="event_page" id="content_inner">\n<div id="maincontent_inner">\n<div class="maincontent_box" style="word-wrap: break-word\;">\n<p>&nbsp\;</p>\n\n<p><strong><span style="color: rgb(0\, 128\, 128)\;">*Register before October 1st for the best deal!</span></strong></p>\n\n<p><strong><span style="color: rgb(0\, 128\, 128)\;">*Long-sleeve t-shirts for all 5K and 10K registrants! (Register by November 6th to guarantee a shirt on race day\; directions will be given on shirt pick-up if you register after this date.)</span></strong></p>\n\n<p><strong><span style="color: rgb(0\, 128\, 128)\;">*All 5K and 10K registrants will be entered in to a drawing for a two-night stay at East Silent Resort! Check out the website at www.eastsilentresort.com.</span></strong></p>\n\n<p><strong><span style="color: rgb(0\, 128\, 128)\;">*The Turkey Trot is the last event in the Fergus Falls Area Race Series. Find more information at FFRaces.com.</span></strong></p>\n\n<p>&nbsp\;</p>\n\n<p><span style="color: rgb(255\, 140\, 0)\;"><strong>Registration Information:</strong></span></p>\n\n<p><span style="color: rgb(255\, 140\, 0)\;"><strong>-Online registration closes November 12th at 9:00 PM.</strong></span></p>\n\n<p><span style="color: rgb(255\, 140\, 0)\;"><strong>-Registration opens 7:30 AM on race day.</strong></span></p>\n\n<p><span style="color: rgb(255\, 140\, 0)\;"><strong>- 1 mile start is 8:30 AM. Fee is $5.</strong></span></p>\n\n<p><span style="color: rgb(255\, 140\, 0)\;"><strong>-5K start is&nbsp\; 9:00 AM.&nbsp\; Fee is $20 until 9-30\, $25 10-1&nbsp\;to 10-31\, and $30 11-1 to race day.</strong></span></p>\n\n<p><span style="color: rgb(255\, 140\, 0)\;"><strong>-10K start is 9:00 AM.&nbsp\; Fee is $25&nbsp\;until 9-30\, $30 10-1 to 10-31\, and $35 11-1 to race day.</strong></span></p>\n\n<p><span style="color: rgb(255\, 140\, 0)\;"><strong>-All races will be chip timed.</strong></span><br />\n<span style="color: rgb(255\, 140\, 0)\;"><strong>- Registration\, check-in\, post-race snacks and awards ceremony held in Kennedy Secondary School foyer.</strong></span></p>\n\n<p>&nbsp\;</p>\n\n<p><span style="color: rgb(139\, 69\, 19)\;"><span style="background-color: white\;">Prizes for the top three male and female finishers in the 5K and 10K</span></span></p>\n\n<p><span style="color: rgb(139\, 69\, 19)\;"><span style="background-color: white\;">Prizes for the top 3 one mile finishers</span></span></p>\n\n<p><span style="color: rgb(139\, 69\, 19)\;"><span style="background-color: white\;">Prizes for Best Costume!&nbsp\;</span></span></p>\n\n<p><span style="color: rgb(139\, 69\, 19)\;"><span style="background-color: white\;">Series awards will be announced immediately following the 5K and 10K.</span></span></p>\n\n<p><span style="color: rgb(139\, 69\, 19)\;"><span style="background-color: white\;">Runners and walkers welcome.&nbsp\;&nbsp\;Strollers welcome\; for safety\, no dogs please.</span><span style="background-color: white\;">&nbsp\;</span></span></p>\n\n<p><span style="color: rgb(139\, 69\, 19)\;">Enjoy a beautiful walk or run in the crisp air through the lovely neighborhoods of &nbsp\;Fergus Falls!</span></p>\n\n<p><span style="color: rgb(139\, 69\, 19)\;"><span style="background-color: white\;">Proceeds benefit Children&#39\;s Services Association\, a program of the United Way. Thank you for your support!</span></span></p>\n\n<p><span style="color: rgb(139\, 69\, 19)\;">Packet pick-up available Friday\, November 13th\, 4-7 PM\, if you register prior to November 12th\, at the United Way office\, 120 E. Washington Avenue\, Fergus Falls\, MN. Will also be available race day morning starting at 7:30 AM.</span></p>\n\n<p><br />\n<span style="color: rgb(139\, 69\, 19)\;">No refunds. If you are unable to race for any reason\, please consider your registration a donation to the Children&#39\;s Services Association. Thank you.</span></p>\n</div>\n</div>\n</div>\n
LOCATION:Kennedy Secondary School 601 Randolph Avenue Fergus Falls\, MN 56537
UID:e.314.24186
SEQUENCE:3
DTSTAMP:20260426T011952Z
URL:https://business.fergusfalls.com/events/details/6th-annual-turkey-trot-hosted-by-united-way-of-ottertail-county-11-14-2015-24186
END:VEVENT

END:VCALENDAR
