BEGIN:VCALENDAR
VERSION:2.0
PRODID:-//ChamberMaster//Event Calendar 2.0//EN
METHOD:PUBLISH
X-PUBLISHED-TTL:P3D
REFRESH-INTERVAL:P3D
CALSCALE:GREGORIAN
BEGIN:VEVENT
DTSTART:20160227T160000Z
DTEND:20160227T220000Z
X-MICROSOFT-CDO-ALLDAYEVENT:FALSE
SUMMARY:8th Annual "Ladies Day Out" Show - Westridge Mall
DESCRIPTION:8th Annual "Ladies Day Out"  Show \n\nWestridge Mall\n\nSaturday Feb 27\n\n10 am - 4 pm\n\nDoor Prizes & "Ladies Day Out" Dollars!
X-ALT-DESC;FMTTYPE=text/html:<strong>8th Annual &quot\;Ladies Day Out&quot\; &nbsp\;Show </strong><br />\nWestridge Mall<br />\nSaturday Feb 27<br />\n10 am - 4 pm<br />\nDoor Prizes &amp\; &quot\;Ladies Day Out&quot\; Dollars!<br />\n&nbsp\;
LOCATION:Westridge Mall Fergus Falls
UID:e.314.31361
SEQUENCE:3
DTSTAMP:20260425T215559Z
URL:https://business.fergusfalls.com/events/details/8th-annual-ladies-day-out-show-westridge-mall-02-27-2016-31361
END:VEVENT

END:VCALENDAR
