BEGIN:VCALENDAR
VERSION:2.0
PRODID:-//ChamberMaster//Event Calendar 2.0//EN
METHOD:PUBLISH
X-PUBLISHED-TTL:P3D
REFRESH-INTERVAL:P3D
CALSCALE:GREGORIAN
BEGIN:VEVENT
DTSTART:20151003T020000Z
DTEND:20151003T060000Z
X-MICROSOFT-CDO-ALLDAYEVENT:FALSE
SUMMARY:8th hour at the Z103
DESCRIPTION:8th Hour at The Z103\n\nFriday Oct 2\n\n9pm-1am\n\n$5 Cover
X-ALT-DESC;FMTTYPE=text/html:8th Hour at The Z103<br />\nFriday Oct 2<br />\n9pm-1am<br />\n$5 Cover
LOCATION:Z103 Bar & Grill 902 Frontier Dr Fergus Falls
UID:e.314.24231
SEQUENCE:3
DTSTAMP:20260426T030012Z
URL:https://business.fergusfalls.com/events/details/8th-hour-at-the-z103-10-02-2015-24231
END:VEVENT

END:VCALENDAR
