BEGIN:VCALENDAR
VERSION:2.0
PRODID:-//ChamberMaster//Event Calendar 2.0//EN
METHOD:PUBLISH
X-PUBLISHED-TTL:P3D
REFRESH-INTERVAL:P3D
CALSCALE:GREGORIAN
BEGIN:VEVENT
DTSTART:20181007T173000Z
DTEND:20181007T191500Z
X-MICROSOFT-CDO-ALLDAYEVENT:FALSE
SUMMARY:90th Anniv. Lunch & Worship
DESCRIPTION:PioneerCare invites you to a 90th Anniversary Lunch and Worship Service at Pioneer's Celebration Center and Garden Court on Sunday\, October 7. The service will celebrate PioneerCare's bond with the church community and its special ministry of caring since October 7\, 1928. Lunch will be served at 12:30 p.m. with the service beginning at 1:30 p.m. All are welcome.
X-ALT-DESC;FMTTYPE=text/html:<div class="_63ew" data-testid="event-permalink-details"><span>PioneerCare invites you to a 90th Anniversary Lunch and Worship Service at Pioneer&rsquo\;s Celebration Center and Garden Court on Sunday\, October 7. The service will celebrate PioneerCare&rsquo\;s bond with the church community and its special ministry of caring since October 7\, 1928. Lunch will be served at 12:30 p.m. with the service beginning at 1:30 p.m. All are welcome.</span></div>\n
LOCATION:PioneerCare 1131 S Mabelle Ave
UID:e.314.50401
SEQUENCE:3
DTSTAMP:20260423T150730Z
URL:https://business.fergusfalls.com/events/details/90th-anniv-lunch-worship-50401
END:VEVENT

END:VCALENDAR
