BEGIN:VCALENDAR
VERSION:2.0
PRODID:-//ChamberMaster//Event Calendar 2.0//EN
METHOD:PUBLISH
X-PUBLISHED-TTL:P3D
REFRESH-INTERVAL:P3D
CALSCALE:GREGORIAN
BEGIN:VEVENT
DTSTART:20160213T143000Z
DTEND:20160213T180000Z
X-MICROSOFT-CDO-ALLDAYEVENT:FALSE
SUMMARY:9Round Grand Opening
DESCRIPTION:9Round Grand Opening!!\n\nCome in Sat. Feb. 13th from 8:30-Noon\n\nCheck out our gym and have light refreshments and sign up for door prizes. Also $50 OFF memberships if you sign up that day!
X-ALT-DESC;FMTTYPE=text/html:<span style="font-size:24px">9Round Grand Opening!!<br />\nCome in Sat. Feb. 13th from 8:30-Noon<br />\nCheck out our gym and have light refreshments and sign up for door prizes. Also $50 OFF memberships if you sign up that day!</span><br />\n&nbsp\;
LOCATION:2609 Cenex Drive Suite 108 Fergus Falls\, MN (located near Arby's & Family Diner)
UID:e.314.31109
SEQUENCE:3
DTSTAMP:20260425T200742Z
URL:https://business.fergusfalls.com/events/details/9round-grand-opening-02-13-2016-31109
END:VEVENT

END:VCALENDAR
