BEGIN:VCALENDAR
VERSION:2.0
PRODID:-//ChamberMaster//Event Calendar 2.0//EN
METHOD:PUBLISH
X-PUBLISHED-TTL:P3D
REFRESH-INTERVAL:P3D
CALSCALE:GREGORIAN
BEGIN:VEVENT
DTSTART:20170123T230000Z
DTEND:20170124T050000Z
X-MICROSOFT-CDO-ALLDAYEVENT:FALSE
SUMMARY:9th Annual Friends of Friends Fighting Hunger Charity Event
DESCRIPTION:Join us for the 9th Annual Friends of Friends Fighting Hunger Event at Thumper Pond in Ottertail\, MN. Proceeds benefit Otter Tail County food shelves and the Children's Weekend Feeding Backpack Program. Tickets are $50 each and include dinner\, live & silent auction. (Provided by Aasness Auctioneers) Music provided by Mitch and Micah G. Special guest Audrey Swanson. \n\nTo order Tickets online: http://www.uwotc.com/civicrm/event/register?reset=1&id=9
X-ALT-DESC;FMTTYPE=text/html:Join us for the 9th Annual Friends of Friends Fighting Hunger Event at Thumper Pond in Ottertail\, MN. Proceeds benefit Otter Tail County food shelves and the Children&#39\;s Weekend Feeding Backpack Program. Tickets are $50 each and include dinner\, live &amp\; silent auction. (Provided by Aasness Auctioneers) Music provided by Mitch and Micah G. Special guest Audrey Swanson.&nbsp\;<br />\nTo order Tickets online: http://www.uwotc.com/civicrm/event/register?reset=1&amp\;id=9
LOCATION:
UID:e.314.37248
SEQUENCE:3
DTSTAMP:20260425T004854Z
URL:https://business.fergusfalls.com/events/details/9th-annual-friends-of-friends-fighting-hunger-charity-event-37248
END:VEVENT

END:VCALENDAR
