BEGIN:VCALENDAR
VERSION:2.0
PRODID:-//ChamberMaster//Event Calendar 2.0//EN
METHOD:PUBLISH
X-PUBLISHED-TTL:P3D
REFRESH-INTERVAL:P3D
CALSCALE:GREGORIAN
BEGIN:VEVENT
DTSTART:20190119T223000Z
DTEND:20190120T003000Z
X-MICROSOFT-CDO-ALLDAYEVENT:FALSE
SUMMARY:A Celebration of Women
DESCRIPTION:A Celebration of Women honoring the 100 year anniversary of women's right to vote and the annual Women's March includes includes a local a suffragette and shared experiences by local prominent women. Free and open to the public.
X-ALT-DESC;FMTTYPE=text/html:A Celebration of Women honoring the 100 year anniversary of women&rsquo\;s right to vote and the annual Women&#39\;s March includes includes a local a suffragette and shared experiences by local prominent women. Free and open to the public.
LOCATION:The Spot\, 220 Lincoln Ave\, Fergus Falls
UID:e.314.52377
SEQUENCE:3
DTSTAMP:20260423T105827Z
URL:https://business.fergusfalls.com/events/details/a-celebration-of-women-52377
END:VEVENT

END:VCALENDAR
