BEGIN:VCALENDAR
VERSION:2.0
PRODID:-//ChamberMaster//Event Calendar 2.0//EN
METHOD:PUBLISH
X-PUBLISHED-TTL:P3D
REFRESH-INTERVAL:P3D
CALSCALE:GREGORIAN
BEGIN:VEVENT
DTSTART:20180210T013000Z
DTEND:20180210T030000Z
X-MICROSOFT-CDO-ALLDAYEVENT:FALSE
SUMMARY:A Center for the Arts
DESCRIPTION:Monroe Crossing\n\n"The Best Blue Grass and the best in entertainment!"
X-ALT-DESC;FMTTYPE=text/html:<span style="font-size:26px\;"><strong>Monroe Crossing</strong></span><br />\n&quot\;The Best Blue Grass and the best in entertainment!&quot\;
LOCATION:A Center for the Arts 124 W Lincoln Ave. Fergus Falls MN 56537
UID:e.314.43881
SEQUENCE:3
DTSTAMP:20260424T025207Z
URL:https://business.fergusfalls.com/events/details/a-center-for-the-arts-43881
END:VEVENT

END:VCALENDAR
