BEGIN:VCALENDAR
VERSION:2.0
PRODID:-//ChamberMaster//Event Calendar 2.0//EN
METHOD:PUBLISH
X-PUBLISHED-TTL:P3D
REFRESH-INTERVAL:P3D
CALSCALE:GREGORIAN
BEGIN:VEVENT
DTSTART:20180303T013000Z
DTEND:20180303T030000Z
X-MICROSOFT-CDO-ALLDAYEVENT:FALSE
SUMMARY:A Center for the Arts
DESCRIPTION:Good Lovelies\n\n2017-18 Center Series
X-ALT-DESC;FMTTYPE=text/html:Good Lovelies<br />\n2017-18 Center Series&nbsp\;&nbsp\;&nbsp\;&nbsp\;&nbsp\;&nbsp\;&nbsp\;&nbsp\;
LOCATION:A Center for the Arts 124 W Lincoln Ave Fergus Falls MN 56537
UID:e.314.43882
SEQUENCE:3
DTSTAMP:20260424T013053Z
URL:https://business.fergusfalls.com/events/details/a-center-for-the-arts-43882
END:VEVENT

END:VCALENDAR
