BEGIN:VCALENDAR
VERSION:2.0
PRODID:-//ChamberMaster//Event Calendar 2.0//EN
METHOD:PUBLISH
X-PUBLISHED-TTL:P3D
REFRESH-INTERVAL:P3D
CALSCALE:GREGORIAN
BEGIN:VEVENT
DTSTART:20170213T190000Z
DTEND:20170213T210000Z
X-MICROSOFT-CDO-ALLDAYEVENT:FALSE
SUMMARY:A Center for the Arts presents - Alice in Wonderland
DESCRIPTION:Alice in Wonderland
X-ALT-DESC;FMTTYPE=text/html:Alice in Wonderland
LOCATION:A Center for the Arts 124 W Lincoln Ave. Fergus Falls MN 56537
UID:e.314.37586
SEQUENCE:3
DTSTAMP:20260424T225900Z
URL:https://business.fergusfalls.com/events/details/a-center-for-the-arts-presents-alice-in-wonderland-37586
END:VEVENT

END:VCALENDAR
