BEGIN:VCALENDAR
VERSION:2.0
PRODID:-//ChamberMaster//Event Calendar 2.0//EN
METHOD:PUBLISH
X-PUBLISHED-TTL:P3D
REFRESH-INTERVAL:P3D
CALSCALE:GREGORIAN
BEGIN:VEVENT
DTSTART:20180324T003000Z
DTEND:20180324T020000Z
X-MICROSOFT-CDO-ALLDAYEVENT:FALSE
SUMMARY:A Center for the Arts presents Zenon Dance 35
DESCRIPTION:Company. School. Outreach
X-ALT-DESC;FMTTYPE=text/html:Company. School. Outreach
LOCATION:A Center for the Arts 124 W Lincoln Ave. Fergus Falls MN 56537 (218) 736-5453
UID:e.314.43870
SEQUENCE:3
DTSTAMP:20260424T025544Z
URL:https://business.fergusfalls.com/events/details/a-center-for-the-arts-presents-zenon-dance-35-43870
END:VEVENT

END:VCALENDAR
