BEGIN:VCALENDAR
VERSION:2.0
PRODID:-//ChamberMaster//Event Calendar 2.0//EN
METHOD:PUBLISH
X-PUBLISHED-TTL:P3D
REFRESH-INTERVAL:P3D
CALSCALE:GREGORIAN
BEGIN:VEVENT
DTSTART:20180203T180000Z
DTEND:20180204T040000Z
X-MICROSOFT-CDO-ALLDAYEVENT:FALSE
SUMMARY:A Center for the Arts Trivia
DESCRIPTION:New Trivia & Guest presenter every hour!\n\nIndividuals or Teams up to 6.\n\nPrizes\, trophy's\, consessions\, soup & wine.\n\nCome and go as you will!
X-ALT-DESC;FMTTYPE=text/html:New Trivia &amp\; Guest presenter every hour!<br />\nIndividuals or Teams up to 6.<br />\nPrizes\, trophy&#39\;s\, consessions\, soup &amp\; wine.<br />\nCome and go as you will!&nbsp\;
LOCATION:A Center for the Arts 124 W Lincoln Ave. Fergus Falls MN (218) 736-5453
UID:e.314.43815
SEQUENCE:3
DTSTAMP:20260424T025349Z
URL:https://business.fergusfalls.com/events/details/a-center-for-the-arts-trivia-43815
END:VEVENT

END:VCALENDAR
