BEGIN:VCALENDAR
VERSION:2.0
PRODID:-//ChamberMaster//Event Calendar 2.0//EN
METHOD:PUBLISH
X-PUBLISHED-TTL:P3D
REFRESH-INTERVAL:P3D
CALSCALE:GREGORIAN
BEGIN:VEVENT
DTSTART:20170319T190000Z
DTEND:20170319T210000Z
X-MICROSOFT-CDO-ALLDAYEVENT:FALSE
SUMMARY:A Man Called Ove
DESCRIPTION:Film Event\n\nA MAN CALLED OVE\n\nmisery hates company\n\nPG-13
X-ALT-DESC;FMTTYPE=text/html:Film Event<br />\nA MAN CALLED OVE<br />\nmisery hates company<br />\nPG-13<br />\n&nbsp\;
LOCATION:A Center for the Arts downtown Fergus Falls
UID:e.314.38815
SEQUENCE:3
DTSTAMP:20260424T205759Z
URL:https://business.fergusfalls.com/events/details/a-man-called-ove-38815
END:VEVENT

END:VCALENDAR
