BEGIN:VCALENDAR
VERSION:2.0
PRODID:-//ChamberMaster//Event Calendar 2.0//EN
METHOD:PUBLISH
X-PUBLISHED-TTL:P3D
REFRESH-INTERVAL:P3D
CALSCALE:GREGORIAN
BEGIN:VEVENT
DTSTART:20160209T150000Z
DTEND:20160210T050000Z
X-MICROSOFT-CDO-ALLDAYEVENT:FALSE
SUMMARY:A Practical Nursing Interest Meeting
DESCRIPTION:If being in a respected and positive profession with a variety of responsibilities and rewarding experiences is what you have been searching for\, we have a wonderful opportunity for you!\n\n\n\nGenerous scholarship dollars available to cover the costs of your education and related expenses as an employee of the Broen Home through the Nursing Facility Employee Scholarship Program.\n\n\n\nCall (218) 998-7303 to reserve your spot at this no-obligation meeting.
X-ALT-DESC;FMTTYPE=text/html:<span class="fsl">If being in a respected and positive profession with a variety of responsibilities and rewarding experiences is what you have been searching for\, we have a wonderful opportunity for you!<br />\n<br />\nGenerous scholarship dollars available to cover the costs of your education and related expenses as an employee of the Broen Home through the Nursing Facility Employee Scholarship Program.<br />\n<br />\nCall (218) 998-7303 to reserve your spot at this no-obligation meeting.</span>
LOCATION:M State Fergus Falls Student Life 1414 College Way\, Fergus Falls\, Minnesota 56537
UID:e.314.30701
SEQUENCE:3
DTSTAMP:20260425T195645Z
URL:https://business.fergusfalls.com/events/details/a-practical-nursing-interest-meeting-02-09-2016-30701
END:VEVENT

END:VCALENDAR
