BEGIN:VCALENDAR
VERSION:2.0
PRODID:-//ChamberMaster//Event Calendar 2.0//EN
METHOD:PUBLISH
X-PUBLISHED-TTL:P3D
REFRESH-INTERVAL:P3D
CALSCALE:GREGORIAN
BEGIN:VEVENT
DTSTART:20180425T230000Z
DTEND:20180426T010000Z
X-MICROSOFT-CDO-ALLDAYEVENT:FALSE
SUMMARY:A Survivor Speaks\, Internet Safety & Human Trafficking Prevention
DESCRIPTION:A Survivor Speaks -\n\nInternet Safety & Human Trafficking Prevention \n\n\n\nFREE & OPEN to the Public \n\nAges 13-100+ \n\nA light box dinner will be served. \n\n\n\nJoin Community members along with local and state partners as we discuss sexual exploitation and trafficking of our youth.
X-ALT-DESC;FMTTYPE=text/html:<strong><span style="font-size: 18px\;">A Survivor Speaks -<br />\nInternet Safety &amp\; Human Trafficking Prevention </span><br />\n<br />\nFREE &amp\; OPEN to the Public&nbsp\;<br />\nAges 13-100+ </strong><br />\n<em>A light box dinner will be served. </em><br />\n<br />\nJoin Community members along with local and state partners as we discuss sexual exploitation and trafficking of our youth.<br />\n&nbsp\;
LOCATION:M State - Fergus Falls Legacy Hall - 1414 College Way\, Fergus Falls\,
UID:e.314.47720
SEQUENCE:3
DTSTAMP:20260423T235743Z
URL:https://business.fergusfalls.com/events/details/a-survivor-speaks-internet-safety-human-trafficking-prevention-47720
END:VEVENT

END:VCALENDAR
