BEGIN:VCALENDAR
VERSION:2.0
PRODID:-//ChamberMaster//Event Calendar 2.0//EN
METHOD:PUBLISH
X-PUBLISHED-TTL:P3D
REFRESH-INTERVAL:P3D
CALSCALE:GREGORIAN
BEGIN:VEVENT
DTSTART:20160528T150000Z
DTEND:20160529T040000Z
X-MICROSOFT-CDO-ALLDAYEVENT:FALSE
SUMMARY:Aasness Auctioneers - Personal & Property Auction - Fergus Falls
DESCRIPTION:Bid your price on a super selection of personal property. Including late model like new vehicles(2013 Prius 5\, 2010 Mazda Miata\, 2005 Toyota Tundra)\, high quality home furnishings\, tools/shop equipment and more! Don't miss out on May 28th. Located right in Fergus Falls.
X-ALT-DESC;FMTTYPE=text/html:<p>Bid your price on a super selection of personal property. Including late model like new vehicles(2013 Prius 5\, 2010 Mazda Miata\, 2005 Toyota Tundra)\, high quality home furnishings\, tools/shop equipment and more! Don&#39\;t miss out on May 28th. Located right in Fergus Falls.</p>\n
LOCATION:LIVE ON-SITE AUCTION Begins: 05/28/16 at 10:00 AM CDT Location: 1020 West Lincoln Ave\, Fergus Falls\, MN 56537
UID:e.314.32742
SEQUENCE:3
DTSTAMP:20260425T150138Z
URL:https://business.fergusfalls.com/events/details/aasness-auctioneers-personal-property-auction-fergus-falls-05-28-2016-32742
END:VEVENT

END:VCALENDAR
