BEGIN:VCALENDAR
VERSION:2.0
PRODID:-//ChamberMaster//Event Calendar 2.0//EN
METHOD:PUBLISH
X-PUBLISHED-TTL:P3D
REFRESH-INTERVAL:P3D
CALSCALE:GREGORIAN
BEGIN:VEVENT
DTSTART:20191109T180000Z
DTEND:20191109T230000Z
X-MICROSOFT-CDO-ALLDAYEVENT:FALSE
SUMMARY:AAUW Tour of Homes
DESCRIPTION:Five local families invite you to share the holidays with them as they welcome you into their homes for the American Association of University Women (AAUW) Fergus Falls Branch's biannual Holiday Tour of Homes on Saturday\, November 9\, from 12 to 5 p.m. The Holiday Tour of Homes also includes a reception at the YMCA. Tickets are $20 and are available at The Market on Union Avenue\, Service Food\, and Victor Lundeen Company. Ticket sales are limited. This event is AAUW Fergus Falls Branch's main fundraiser\, with proceeds used to provide scholarships for area women. More information: https://www.facebook.com/events/683741172138894/
X-ALT-DESC;FMTTYPE=text/html:Five local families invite you to share the holidays with them as they welcome you into their homes for the American Association of University Women (AAUW) Fergus Falls Branch&rsquo\;s biannual Holiday Tour of Homes on Saturday\, November 9\, from 12 to 5 p.m. The Holiday Tour of Homes also includes a reception at the YMCA. Tickets are $20 and are available at The Market on Union Avenue\, Service Food\, and Victor Lundeen Company. Ticket sales are limited. This event is AAUW Fergus Falls Branch&rsquo\;s main fundraiser\, with proceeds used to provide scholarships for area women. More information: https://www.facebook.com/events/683741172138894/
LOCATION:
UID:e.314.55795
SEQUENCE:3
DTSTAMP:20260422T190353Z
URL:https://business.fergusfalls.com/events/details/aauw-tour-of-homes-55795
END:VEVENT

END:VCALENDAR
