BEGIN:VCALENDAR
VERSION:2.0
PRODID:-//ChamberMaster//Event Calendar 2.0//EN
METHOD:PUBLISH
X-PUBLISHED-TTL:P3D
REFRESH-INTERVAL:P3D
CALSCALE:GREGORIAN
BEGIN:VEVENT
DTSTART:20160214T013000Z
DTEND:20160214T030000Z
X-MICROSOFT-CDO-ALLDAYEVENT:FALSE
SUMMARY:AC4TA Adonis Puentes and the Voice of Cuba Orchestra (Center Series)
DESCRIPTION:Adonis Puentes was destined to be a music star. Sabor a Caf \, nominated as World Music Album Of The Year at 2014 Canadian Juno Awards\, his latest CD and first collection of all self-composed original songs\, fulfills the Cuban-Canadian singer's destiny.\n\n\n\n"I have traveled the world singing. My mission in life is to share my music\, giving people joy\," Adonis explains. "My new recording captures my poetic journey\, my revelations and my maturing as an artist."\n\n\n\nFor more information visit: www.adonispuentes.ca\n\n\n\n2015-16 Center Series Sponsors: Victor Lundeen Company\; City of Fergus Falls\; Target Corporation\; Fergus Falls Convention and Visitor's Bureau: American Federal Bank\; Green Plains Ottertail\; Service Food\; The Market\; Gate City Bank\; American National Bank\; Best Western/Falls Inn and Suites\; The Daily Journal\; Lake Region Healthcare\; Wells Fargo Bank\; Design Intent Architects\, AmericInn\, Otter Tail Power Company\, Northern Lakes Dental\, Reid Olson Masonry\, Pemberton Law Offices\, 831 Web/Tim Litt.\n\n\n\nThe 2015-16 Center Series is made possible in part by the voters of Minnesota through a grant from the Lake Region Arts Council\, thanks to a legislative appropriation from the Arts and Cultural Heritage Fund.\n\n\n\nAC4TA activities are made possible by the voters of Minnesota through a Minnesota State Arts Board Operating Support grant\,thanks to a legislative appropriation from the Arts and Cultural Heritage Fund.
X-ALT-DESC;FMTTYPE=text/html:Adonis Puentes was destined to be a music star. Sabor a Caf&eacute\;\, nominated as World Music Album Of The Year at 2014 Canadian Juno Awards\, his latest CD and first collection of all self-composed original songs\, fulfills the Cuban-Canadian singer&rsquo\;s destiny.<br />\n<br />\n&ldquo\;I have traveled the world singing. My mission in life is to share my music\, giving people joy\,&rdquo\; Adonis explains. &ldquo\;My new recording captures my poetic journey\, my revelations and my maturing as an artist.&rdquo\;<br />\n<br />\nFor more information visit: www.adonispuentes.ca<br />\n<br />\n2015-16 Center Series Sponsors: Victor Lundeen Company\; City of Fergus Falls\; Target Corporation\; Fergus Falls Convention and Visitor&rsquo\;s Bureau: American Federal Bank\; Green Plains Ottertail\; Service Food\; The Market\; Gate City Bank\; American National Bank\; Best Western/Falls Inn and Suites\; The Daily Journal\; Lake Region Healthcare\; Wells Fargo Bank\; Design Intent Architects\, AmericInn\, Otter Tail Power Company\, Northern Lakes Dental\, Reid Olson Masonry\, Pemberton Law Offices\, 831 Web/Tim Litt.<br />\n<br />\nThe 2015-16 Center Series is made possible in part by the voters of Minnesota through a grant from the Lake Region Arts Council\, thanks to a legislative appropriation from the Arts and Cultural Heritage Fund.<br />\n<br />\nAC4TA activities are made possible by the voters of Minnesota through a Minnesota State Arts Board Operating Support grant\,thanks to a legislative appropriation from the Arts and Cultural Heritage Fund.
LOCATION:124 West Lincoln Avenue Fergus Falls\, MN
UID:e.314.28097
SEQUENCE:3
DTSTAMP:20260425T215836Z
URL:https://business.fergusfalls.com/events/details/ac4ta-adonis-puentes-and-the-voice-of-cuba-orchestra-center-series-02-13-2016-28097
END:VEVENT

END:VCALENDAR
