BEGIN:VCALENDAR
VERSION:2.0
PRODID:-//ChamberMaster//Event Calendar 2.0//EN
METHOD:PUBLISH
X-PUBLISHED-TTL:P3D
REFRESH-INTERVAL:P3D
CALSCALE:GREGORIAN
BEGIN:VEVENT
DTSTART:20180420T003000Z
DTEND:20180420T020000Z
X-MICROSOFT-CDO-ALLDAYEVENT:FALSE
SUMMARY:AC4TA - Broadcast Radio Show
DESCRIPTION:A Broadcast Radio Show Featuring Kevin Kling and Simone Perrin\n\nThursday\, April 19  7:30pm\n\n \n\nKevin Kling is a well-known playwright and storyteller\, and his commentaries can be heard on NPR's All Things Considered. His plays and adaptations have been performed around the world.\n\nKling is also well known for his collaborations with fellow artists\, particularly the gifted musician Simone Perrin. With Perrin contributing her own engaging asides along with her musical accompaniment. Accordionista\, chanteuse\, and theater artist Simone Perrin has performed previoulsy with Kling in several collaborations\, as well as at The Guthrie.
X-ALT-DESC;FMTTYPE=text/html:<p><span style="font-size: 18.66px\;"><strong>A Broadcast Radio Show Featuring Kevin Kling and Simone Perrin</strong></span></p>\n\n<p><em><span style="font-size: 12pt\;"><strong>Thursday\, April 19&nbsp\; 7:30pm</strong></span></em></p>\n\n<p>&nbsp\;</p>\n\n<p>Kevin Kling is a well-known playwright and storyteller\, and his commentaries can be heard on NPR&rsquo\;s All Things Considered. His plays and adaptations have been performed around the world.</p>\n\n<p>Kling is also well known for his collaborations with fellow artists\, particularly the gifted musician Simone Perrin. With Perrin contributing her own engaging asides along with her musical accompaniment.&nbsp\;Accordionista\, chanteuse\, and theater artist Simone Perrin has performed previoulsy with Kling in several collaborations\, as well as at The Guthrie.</p>\n
LOCATION:A Center for the Arts 124 W Lincoln Ave Fergus Falls\, MN 56537
UID:e.314.47378
SEQUENCE:3
DTSTAMP:20260423T235520Z
URL:https://business.fergusfalls.com/events/details/ac4ta-broadcast-radio-show-47378
END:VEVENT

END:VCALENDAR
