BEGIN:VCALENDAR
VERSION:2.0
PRODID:-//ChamberMaster//Event Calendar 2.0//EN
METHOD:PUBLISH
X-PUBLISHED-TTL:P3D
REFRESH-INTERVAL:P3D
CALSCALE:GREGORIAN
BEGIN:VEVENT
DTSTART:20160707T233000Z
DTEND:20160708T010000Z
X-MICROSOFT-CDO-ALLDAYEVENT:FALSE
SUMMARY:AC4TA Concerts in the Park
DESCRIPTION:AC4TA Concerts in the Park Summer 2016 June 2 through August 25\, except July 28. Thursday evenings at Roosevelt Park (across from Kennedy Secondary School). 6:30 to 8 p.m. Bring a blanket or lawn chair\, a picnic dinner or purchase something from the evening's food vendor. Free and open to the public. Donations Appreciated SCHEDULE (subject to changes) June 2 : HARMONY PARTY   Elmer's Texas BBQ | Movies start June 9 June 9 : LAKES AREA ALL STARS   Lowrider Tacos & Pizza I Inside Out (PG) June 16: BRUCE NEUMANN & TIKI D   Underwood Lions | Star Wars: The Force Awakens (PG13) June 23: DAVID STODDARD   Ole & Lena's Pizzeria | The Avengers: Age of Ultron (PG13) June 30: VAL SOHL\, FFHS MARCHING BAND & FREEDOM WINDS   Don Pablos | Raiders of the Lost Ark (PG) July 7 : ADAM HAMMER & DAVE COFEL: FOLK-N- BLUES   American Legion | Pitch Perfect 2 (PG13) July 14: MOTU   Don Pablos | Minions (PG) July 21: THE FANCY & THE FUNCTIONAL   Big Easy Bistro | Toy Story (G) July 24\, aCHORD   Sunday Bonus Concert in the Park at 3 p.m. July 28: NO CONCERT\, Summer Musical at AC4TA   No Food Vendor | Jurassic World (PG13) Aug. 4 : JOSEPH DEMASI & BROS   Underwood Lions | The Mighty Ducks (PG) Aug. 11: MARK FOGELSON   Ole & Lena's Pizzeria | Monster's Inc. (G) Aug. 18: HEART OF THE LAKES DIXIE   Big Easy Bistro | Top Gun (1986) (PG) Aug. 25: THE ACADEMY  Elmer's Texas BBQ | Zootopia (PG) In case of inclement weather\, the concert will cancelled. Cancellations will be posted on our website at www.FergusArts.org\, on our Google Calendar\, and announced on radio. CONCERTS IN THE PARK SPONSORS (5/2/16): Victor Lundeen Company\, 831 Web / Tim Litt\, Northern Lakes Dental\, Fergus Falls Convention & Visitors Bureau\, Mill Street Residence\, AmericInn. 9:00 PM MOVIES IN THE PARK brought to you by Park Region Telephone / Otter Tail Telcom.
X-ALT-DESC;FMTTYPE=text/html:<span style="font-family: Arial\, sans-serif\; font-size: 12px\; white-space: pre-wrap\; background-color: rgb(255\, 255\, 255)\;">AC4TA Concerts in the Park Summer 2016 June 2 through August 25\, except July 28. Thursday evenings at Roosevelt Park (across from Kennedy Secondary School). 6:30 to 8 p.m. Bring a blanket or lawn chair\, a picnic dinner or purchase something from the evening&#39\;s food vendor. Free and open to the public. Donations Appreciated SCHEDULE (subject to changes) June 2 : HARMONY PARTY &mdash\; Elmer&rsquo\;s Texas BBQ | Movies start June 9 June 9 : LAKES AREA ALL STARS &mdash\; Lowrider Tacos &amp\; Pizza I Inside Out (PG) June 16: BRUCE NEUMANN &amp\; TIKI D &mdash\; Underwood Lions | Star Wars: The Force Awakens (PG13) June 23: DAVID STODDARD &mdash\; Ole &amp\; Lena&rsquo\;s Pizzeria | The Avengers: Age of Ultron (PG13) June 30: VAL SOHL\, FFHS MARCHING BAND &amp\; FREEDOM WINDS &mdash\; Don Pablos | Raiders of the Lost Ark (PG) July 7 : ADAM HAMMER &amp\; DAVE COFEL: FOLK-N- BLUES &mdash\; American Legion | Pitch Perfect 2 (PG13) July 14: MOTU &mdash\; Don Pablos | Minions (PG) July 21: THE FANCY &amp\; THE FUNCTIONAL &mdash\; Big Easy Bistro | Toy Story (G) July 24\, aCHORD &mdash\; Sunday Bonus Concert in the Park at 3 p.m. July 28: NO CONCERT\, Summer Musical at AC4TA &mdash\; No Food Vendor | Jurassic World (PG13) Aug. 4 : JOSEPH DEMASI &amp\; BROS &mdash\; Underwood Lions | The Mighty Ducks (PG) Aug. 11: MARK FOGELSON &mdash\; Ole &amp\; Lena&rsquo\;s Pizzeria | Monster&rsquo\;s Inc. (G) Aug. 18: HEART OF THE LAKES DIXIE &mdash\; Big Easy Bistro | Top Gun (1986) (PG) Aug. 25: THE ACADEMY &mdash\;Elmer&rsquo\;s Texas BBQ | Zootopia (PG) In case of inclement weather\, the concert will cancelled. Cancellations will be posted on our website at www.FergusArts.</span><wbr style="font-family: Arial\, sans-serif\; font-size: 12px\; white-space: pre-wrap\; background-color: rgb(255\, 255\, 255)\;" /><span style="font-family: Arial\, sans-serif\; font-size: 12px\; white-space: pre-wrap\; background-color: rgb(255\, 255\, 255)\;">org\, on our Google Calendar\, and announced on radio. CONCERTS IN THE PARK SPONSORS (5/2/16): Victor Lundeen Company\, 831 Web / Tim Litt\, Northern Lakes Dental\, Fergus Falls Convention &amp\; Visitors Bureau\, Mill Street Residence\, AmericInn. 9:00 PM MOVIES IN THE PARK brought to you by Park Region Telephone / Otter Tail Telcom.</span>
LOCATION:
UID:e.314.32695
SEQUENCE:3
DTSTAMP:20260425T112012Z
URL:https://business.fergusfalls.com/events/details/ac4ta-concerts-in-the-park-07-07-2016-32695
END:VEVENT

END:VCALENDAR
