BEGIN:VCALENDAR
VERSION:2.0
PRODID:-//ChamberMaster//Event Calendar 2.0//EN
METHOD:PUBLISH
X-PUBLISHED-TTL:P3D
REFRESH-INTERVAL:P3D
CALSCALE:GREGORIAN
BEGIN:VEVENT
DTSTART:20160116T013000Z
DTEND:20160116T030000Z
X-MICROSOFT-CDO-ALLDAYEVENT:FALSE
SUMMARY:AC4TA Presents Robert Robinson and the Gospel Choir
DESCRIPTION:Robert Robinson is reason to believe that the greatest music reaches every name and crosses every boundary\, from audiences in the Pontiac Silverdome to troops in South Korea. Standing five foot five and sipping Diet Coke\, Robert is "God's canary." The reigning king of Twin Cities gospel\, Robert Robinson\, takes a more pop-oriented approach on his new album\, Lullabies From the Heart\, covering everything from Sarah McLachlan's "Angel" to Sting's "Field of Gold" and Cyndi Lauper's "Time After Time."\n\n\n\nminnesota.cbslocal.com/2014/12/16/minnesotan-to-meet-singer-robert-robinson\n\n\n\nwww.facebook.com/robert.robinson.969952\n\n\n\n2015-16 Center Series Sponsors: Victor Lundeen Company\; City of Fergus Falls\; Target Corporation\; Fergus Falls Convention and Visitor's Bureau: American Federal Bank\; Green Plains Ottertail\; Service Food\; The Market\; Gate City Bank\; American National Bank\; Best Western/Falls Inn and Suites\; The Daily Journal\; Lake Region Healthcare\; Wells Fargo Bank\; Design Intent Architects\, AmericInn\, Otter Tail Power Company\, Northern Lakes Dental\, Reid Olson Masonry\, Pemberton Law Offices\, 831 Web/Tim Litt.\n\n\n\nThe 2015-16 Center Series is made possible in part by the voters of Minnesota through a grant from the Lake Region Arts Council\, thanks to a legislative appropriation from the Arts and Cultural Heritage Fund.\n\n\n\nAC4TA activities are made possible by the voters of Minnesota through a Minnesota State Arts Board Operating Support grant\,thanks to a legislative appropriation from the Arts and Cultural Heritage Fund.
X-ALT-DESC;FMTTYPE=text/html:Robert Robinson is reason to believe that the greatest music reaches every name and crosses every boundary\, from audiences in the Pontiac Silverdome to troops in South Korea. Standing five foot five and sipping Diet Coke\, Robert is &ldquo\;God&rsquo\;s canary.&rdquo\; The reigning king of Twin Cities gospel\, Robert Robinson\, takes a more pop-oriented approach on his new album\, Lullabies From the Heart\, covering everything from Sarah McLachlan&rsquo\;s &ldquo\;Angel&rdquo\; to Sting&rsquo\;s &ldquo\;Field of Gold&rdquo\; and Cyndi Lauper&rsquo\;s &ldquo\;Time After Time.&rdquo\;<br />\n<br />\nminnesota.cbslocal.com/2014/12/16/minnesotan-to-meet-singer-robert-robinson<br />\n<br />\nwww.facebook.com/robert.robinson.969952<br />\n<br />\n2015-16 Center Series Sponsors: Victor Lundeen Company\; City of Fergus Falls\; Target Corporation\; Fergus Falls Convention and Visitor&rsquo\;s Bureau: American Federal Bank\; Green Plains Ottertail\; Service Food\; The Market\; Gate City Bank\; American National Bank\; Best Western/Falls Inn and Suites\; The Daily Journal\; Lake Region Healthcare\; Wells Fargo Bank\; Design Intent Architects\, AmericInn\, Otter Tail Power Company\, Northern Lakes Dental\, Reid Olson Masonry\, Pemberton Law Offices\, 831 Web/Tim Litt.<br />\n<br />\nThe 2015-16 Center Series is made possible in part by the voters of Minnesota through a grant from the Lake Region Arts Council\, thanks to a legislative appropriation from the Arts and Cultural Heritage Fund.<br />\n<br />\nAC4TA activities are made possible by the voters of Minnesota through a Minnesota State Arts Board Operating Support grant\,thanks to a legislative appropriation from the Arts and Cultural Heritage Fund.
LOCATION:124 West Lincoln Avenue Fergus Falls\, MN 56537
UID:e.314.28101
SEQUENCE:3
DTSTAMP:20260425T233314Z
URL:https://business.fergusfalls.com/events/details/ac4ta-presents-robert-robinson-and-the-gospel-choir-01-15-2016-28101
END:VEVENT

END:VCALENDAR
