BEGIN:VCALENDAR
VERSION:2.0
PRODID:-//ChamberMaster//Event Calendar 2.0//EN
METHOD:PUBLISH
X-PUBLISHED-TTL:P3D
REFRESH-INTERVAL:P3D
CALSCALE:GREGORIAN
BEGIN:VEVENT
DTSTART:20160131T013000Z
DTEND:20160131T030000Z
X-MICROSOFT-CDO-ALLDAYEVENT:FALSE
SUMMARY:AC4TA presents Ronnie Malley & Zeshan Bagewadi
DESCRIPTION:Performers:\n\nRonnie Malley and Zeshan Bagewadi\n\n\n\nRonnie Malley combines multiple global music traditions Arab\, Turkish\, Balkan\, South Asian with his American jazz and rock roots to create a sound celebration that has led him to a diverse career. Born and raised in Chicago\, he began his musical journey playing in American and Middle Eastern rock bands and traditional ensembles.\n\n\n\nZeshan Bagewadi is an acclaimed classically-trained opera singer from Chicago who stretches the boundaries of his cultural and musical influences to create a unique voice that defies categorization. Zeshan is a virtuoso who is as comfortable playing the lead in Mozart's The Magic Flute as he is singing qawwali\, jazz standards\, or leading his indie-rock band Zamin.\n\n\n\nA Center for the Arts activities are made possible by the voters of Minnesota through a Minnesota State Arts Board Operating Support grant\, thanks to a legislative appropriation from the arts and cultural heritage fund.
X-ALT-DESC;FMTTYPE=text/html:Performers:<br />\nRonnie Malley and Zeshan Bagewadi<br />\n<br />\nRonnie Malley combines multiple global music traditions&mdash\;Arab\, Turkish\, Balkan\, South Asian&mdash\;with his American jazz and rock roots to create a sound celebration that has led him to a diverse career. Born and raised in Chicago\, he began his musical journey playing in American and Middle Eastern rock bands and traditional ensembles.<br />\n<br />\nZeshan Bagewadi is an acclaimed classically-trained opera singer from Chicago who stretches the boundaries of his cultural and musical influences to create a unique voice that defies categorization. Zeshan is a virtuoso who is as comfortable playing the lead in Mozart&rsquo\;s The Magic Flute as he is singing qawwali\, jazz standards\, or leading his indie-rock band Zamin.<br />\n<br />\nA Center for the Arts activities are made possible by the voters of Minnesota through a Minnesota State Arts Board Operating Support grant\, thanks to a legislative appropriation from the arts and cultural heritage fund.
LOCATION:
UID:e.314.28096
SEQUENCE:3
DTSTAMP:20260425T215451Z
URL:https://business.fergusfalls.com/events/details/ac4ta-presents-ronnie-malley-zeshan-bagewadi-01-30-2016-28096
END:VEVENT

END:VCALENDAR
