BEGIN:VCALENDAR
VERSION:2.0
PRODID:-//ChamberMaster//Event Calendar 2.0//EN
METHOD:PUBLISH
X-PUBLISHED-TTL:P3D
REFRESH-INTERVAL:P3D
CALSCALE:GREGORIAN
BEGIN:VEVENT
DTSTART:20190517T220000Z
DTEND:20190518T170000Z
X-MICROSOFT-CDO-ALLDAYEVENT:FALSE
SUMMARY:AC4TA Summer Musical AUDITIONS
DESCRIPTION:A Center for the Arts Summer Musical: OLIVER! will be holding auditions on Friday\, May 17 5 - 9pm and Saturday\, May 18 9am - noon. Open to ages 8-80. Registration available online at www.fergusarts.org Have a portion of a Broadway song prepared. An accompanist will be provided for you.
X-ALT-DESC;FMTTYPE=text/html:A Center for the Arts Summer Musical: OLIVER! will be holding auditions on Friday\, May 17 5 - 9pm and Saturday\, May 18 9am - noon. Open to ages 8-80. Registration available online at www.fergusarts.org Have a portion of a Broadway song prepared. An accompanist will be provided for you.
LOCATION:Bakken Building - Small Rehearsal Room 115 1/2 W Lincoln Ave Fergus Falls\, MN
UID:e.314.53884
SEQUENCE:3
DTSTAMP:20260423T062911Z
URL:https://business.fergusfalls.com/events/details/ac4ta-summer-musical-auditions-53884
END:VEVENT

END:VCALENDAR
