BEGIN:VCALENDAR
VERSION:2.0
PRODID:-//ChamberMaster//Event Calendar 2.0//EN
METHOD:PUBLISH
X-PUBLISHED-TTL:P3D
REFRESH-INTERVAL:P3D
CALSCALE:GREGORIAN
BEGIN:VEVENT
DTSTART:20180418T000000Z
DTEND:20180418T020000Z
X-MICROSOFT-CDO-ALLDAYEVENT:FALSE
SUMMARY:AC4TA - THE EXPERIMENTAL CITY - a film documentary
DESCRIPTION:THE EXPERIMENTAL CITY - a film documentary\n\nTuesday\, April 17  7pm\n\n \n\nThe film documentary focuses on the now largely-forgotten Minnesota Experimental City project of the 1960's. If you've never heard of it\, you're not alone. This project\, surely one of the most ambitious in Minnesota history\, has been near-buried for 50 years. Dreamed up by a University of Minnesota dean to eliminate pollution and fix the broken mid-Century city\, this domed community was set to be built in either Douglas or Aitkin County. Businessman\, Dick Pemberton of Fergus Falls\, who makes an appearance in this documentary\, was one of those strongly against this project.
X-ALT-DESC;FMTTYPE=text/html:<h1>THE EXPERIMENTAL CITY <span style="font-size: 18px\;">- a film documentary</span></h1>\n\n<h4>Tuesday\, April 17&nbsp\; 7pm</h4>\n\n<p>&nbsp\;</p>\n\n<p>The film documentary focuses on the now largely-forgotten Minnesota Experimental City project of the 1960&rsquo\;s. If you&rsquo\;ve never heard of it\, you&rsquo\;re not alone. This project\, surely one of the most ambitious in Minnesota history\, has been near-buried for 50 years. Dreamed up by a University of Minnesota dean to eliminate pollution and fix the broken mid-Century city\, this domed community was set to be built in either Douglas or Aitkin County. Businessman\, Dick Pemberton of Fergus Falls\, who makes an appearance in this documentary\, was one of those strongly against this project.</p>\n
LOCATION:A Center for the Arts 124 W Lincoln Ave Fergus Falls\, MN 56537
UID:e.314.47377
SEQUENCE:3
DTSTAMP:20260423T235657Z
URL:https://business.fergusfalls.com/events/details/ac4ta-the-experimental-city-a-film-documentary-47377
END:VEVENT

END:VCALENDAR
