BEGIN:VCALENDAR
VERSION:2.0
PRODID:-//ChamberMaster//Event Calendar 2.0//EN
METHOD:PUBLISH
X-PUBLISHED-TTL:P3D
REFRESH-INTERVAL:P3D
CALSCALE:GREGORIAN
BEGIN:VEVENT
DTSTART:20151003T233000Z
DTEND:20151004T023000Z
X-MICROSOFT-CDO-ALLDAYEVENT:FALSE
SUMMARY:AC4TA - "Viva Las Fergus"
DESCRIPTION:A Center For The Arts\n\nAnnual Fall Fundraising Event at AC4TA \n\nSaturday Oct 3\,2015\n\n'Viva Las Fergus!"\n\n6:30 pm \n\nFood Trucks & Light Appetizers (included)\n\nCash Bar\n\nSilent Auction (ends at 7:55)\n\nSocializing\n\n8pm Tim Gabrielson\n\n\n\n"The Magic of Comedy" as seen in Las Vegas! \n\n\n\n\n\nFULL EVENING RESERVATIONS:\n\n\n\nEarly Bird (Before Sept 15) $45.00\n\nRegular Price (begin Sept 16) $50.00\n\n\n\n\n\nPlease RSVP Oct. 1 Tim Gabrielson Show Only Ticket: $20.00\n\n(rear theater seating only)
X-ALT-DESC;FMTTYPE=text/html:<strong><span style="font-size: 18px\;"><span style="color: rgb(255\, 0\, 0)\;">A Center For The Arts<br />\nAnnual Fall Fundraising Event at AC4TA </span><br />\n<span style="color: rgb(0\, 0\, 0)\;">Saturday Oct 3\,2015</span><br />\n<span style="color: rgb(255\, 0\, 0)\;"><em>&#39\;Viva Las Fergus!&quot\;</em></span></span><br />\n6<span style="font-size: 14px\;">:30 pm </span><br />\nFood Trucks &amp\; Light Appetizers (included)<br />\nCash Bar<br />\nSilent Auction (ends at 7:55)<br />\nSocializing<br />\n8pm Tim Gabrielson<br />\n<br />\n<em><span style="color: rgb(255\, 0\, 0)\;"><span style="font-size: 16px\;">&quot\;The Magic of Comedy&quot\; as seen in Las Vegas! </span></span></em><br />\n<br />\n<br />\n<span style="color: rgb(255\, 0\, 0)\;">FULL EVENING RESERVATIONS:</span><br />\n<br />\nEarly Bird (Before Sept 15) $45.00<br />\nRegular Price (begin Sept 16) $50.00<br />\n<br />\n<br />\n<em><u>Please RSVP Oct. 1</u></em> Tim Gabrielson Show Only Ticket: $20.00<br />\n(rear theater seating only)</strong><br />\n&nbsp\;
LOCATION:A Center For The Arts 124. W Lincoln Ave downtown Fergus Falls\, Minnesota 218-736-5453 www. FergusArts.org
UID:e.314.24102
SEQUENCE:3
DTSTAMP:20260426T030138Z
URL:https://business.fergusfalls.com/events/details/ac4ta-viva-las-fergus-10-03-2015-24102
END:VEVENT

END:VCALENDAR
