BEGIN:VCALENDAR
VERSION:2.0
PRODID:-//ChamberMaster//Event Calendar 2.0//EN
METHOD:PUBLISH
X-PUBLISHED-TTL:P3D
REFRESH-INTERVAL:P3D
CALSCALE:GREGORIAN
BEGIN:VEVENT
DTSTART:20180429T003000Z
DTEND:20180429T020000Z
X-MICROSOFT-CDO-ALLDAYEVENT:FALSE
SUMMARY:Across the Pond
DESCRIPTION:Synchronize Swim Club Presents:\n\n"Across the Pond"
X-ALT-DESC;FMTTYPE=text/html:<span style="font-size:14px\;">Synchronize Swim Club Presents:</span><br />\n<span style="font-family:comic sans ms\;"><span style="font-size:20px\;">&quot\;Across the Pond&quot\;</span></span>
LOCATION:Kennedy Secondary School Pool 601 Randolph Ave. Fergus Falls MN 56537
UID:e.314.48752
SEQUENCE:3
DTSTAMP:20260423T235118Z
URL:https://business.fergusfalls.com/events/details/across-the-pond-48752
END:VEVENT

END:VCALENDAR
