BEGIN:VCALENDAR
VERSION:2.0
PRODID:-//ChamberMaster//Event Calendar 2.0//EN
METHOD:PUBLISH
X-PUBLISHED-TTL:P3D
REFRESH-INTERVAL:P3D
CALSCALE:GREGORIAN
BEGIN:VEVENT
DTSTART:20180723T150000Z
DTEND:20180723T170000Z
X-MICROSOFT-CDO-ALLDAYEVENT:FALSE
SUMMARY:Active Aging in Place
DESCRIPTION:Active Aging in Place- Learn how to stay safely in the comfort of your home as you age.
X-ALT-DESC;FMTTYPE=text/html:Active Aging in Place- Learn how to stay safely in the comfort of your home as you age.
LOCATION:Fergus Falls Senior Center 115 Lincoln Ave West Fergus Falls\, MN
UID:e.314.50039
SEQUENCE:3
DTSTAMP:20260423T223150Z
URL:https://business.fergusfalls.com/events/details/active-aging-in-place-50039
END:VEVENT

END:VCALENDAR
