BEGIN:VCALENDAR
VERSION:2.0
PRODID:-//ChamberMaster//Event Calendar 2.0//EN
METHOD:PUBLISH
X-PUBLISHED-TTL:P3D
REFRESH-INTERVAL:P3D
CALSCALE:GREGORIAN
BEGIN:VEVENT
DTSTART:20160428T030000Z
DTEND:20160427T200000Z
X-MICROSOFT-CDO-ALLDAYEVENT:FALSE
SUMMARY:Administrative Professional Day - Cooper's Technology Group
DESCRIPTION:Celebrate Administrative Professionals Day \n\nwith lunch & fun at\n\nCooper's Technology Group!\n\n\n\nWednesday\, April 27th\, 2016\n\n \n\n*Games\n\n*Prizes\n\n*Lunch will be served*\n\n\n\nDowntown Fergus Falls\n\n102 E. Lincoln Ave
X-ALT-DESC;FMTTYPE=text/html:<div style="text-align: center\;"><span style="font-size: 18px\;"><strong><span style="color: rgb(0\, 0\, 255)\;">Celebrate Administrative Professionals Day </span></strong></span><br />\n<span style="font-size: 18px\;"><strong><span style="color: rgb(0\, 0\, 255)\;">with lunch &amp\; fun at<br />\nCooper&#39\;s Technology Group!</span></strong></span></div>\n\n<div style="text-align: center\;"><br />\n<span style="font-size: 16px\;">Wednesday\, April 27th\, 2016</span></div>\n\n<div class="mn-address1" itemprop="streetAddress">&nbsp\;</div>\n\n<div style="text-align: center\;"><span style="font-size: 16px\;">*Games<br />\n*Prizes<br />\n*Lunch will be served*<br />\n<br />\nDowntown Fergus Falls<br />\n102 E. Lincoln Ave</span></div>\n\n<div class="mn-citystatezip">&nbsp\;</div>\n
LOCATION:102 E. Lincoln Ave Fergus Falls\, MN 56537
UID:e.314.32339
SEQUENCE:3
DTSTAMP:20260425T162959Z
URL:https://business.fergusfalls.com/events/details/administrative-professional-day-cooper-s-technology-group-04-27-2016-32339
END:VEVENT

END:VCALENDAR
