BEGIN:VCALENDAR
VERSION:2.0
PRODID:-//ChamberMaster//Event Calendar 2.0//EN
METHOD:PUBLISH
X-PUBLISHED-TTL:P3D
REFRESH-INTERVAL:P3D
CALSCALE:GREGORIAN
BEGIN:VEVENT
DTSTART:20160528T140000Z
DTEND:20160528T220000Z
X-MICROSOFT-CDO-ALLDAYEVENT:FALSE
SUMMARY:Adult Co-Ed Beach Volleyball Tournament
DESCRIPTION:Double Elimination\n	4 vs 4\n	Ages 16+\n	Roster Limit: 8\, at least 2 women on court at all times\n	Registration  Deadline: May 23rd
X-ALT-DESC;FMTTYPE=text/html:<ul>\n	<li>Double Elimination</li>\n	<li>4 vs 4</li>\n	<li>Ages 16+</li>\n	<li>Roster Limit: 8\, at least 2 women on court at all times</li>\n	<li>Registration &nbsp\;Deadline: May 23rd</li>\n</ul>\n
LOCATION:Delagoon Park Volleyball Courts
UID:e.314.32679
SEQUENCE:3
DTSTAMP:20260425T150421Z
URL:https://business.fergusfalls.com/events/details/adult-co-ed-beach-volleyball-tournament-05-28-2016-32679
END:VEVENT

END:VCALENDAR
