BEGIN:VCALENDAR
VERSION:2.0
PRODID:-//ChamberMaster//Event Calendar 2.0//EN
METHOD:PUBLISH
X-PUBLISHED-TTL:P3D
REFRESH-INTERVAL:P3D
CALSCALE:GREGORIAN
BEGIN:VEVENT
DTSTART:20160218T000000Z
DTEND:20160218T020000Z
X-MICROSOFT-CDO-ALLDAYEVENT:FALSE
SUMMARY:Adult Coloring
DESCRIPTION:Adult Coloring Hosted By Fergus Falls Public Library\n\nWednesday\, February 17\n\nat 6 PM - 8 PM
X-ALT-DESC;FMTTYPE=text/html:<div><span class="_5v1l"><a href="https://www.facebook.com/events/491812364336220/?ref=1&amp\;action_history=%5B%7B%22surface%22%3A%22permalink%22%2C%22mechanism%22%3A%22surface%22%2C%22extra_data%22%3A%5B%5D%7D%5D"><font color="#0066cc">Adult </font></a></span><span class="_5v1l"><a href="https://www.facebook.com/events/491812364336220/?ref=1&amp\;action_history=%5B%7B%22surface%22%3A%22permalink%22%2C%22mechanism%22%3A%22surface%22%2C%22extra_data%22%3A%5B%5D%7D%5D"><font color="#0066cc">Coloring</font></a></span>&nbsp\;Hosted By <a aria-describedby="js_4c" aria-haspopup="true" aria-owns="js_4b" data-hovercard="/ajax/hovercard/page.php?id=175739909114201" data-hovercard-position="below" href="https://www.facebook.com/fergusfallspubliclibrary/" id="js_4d"><font color="#0066cc">Fergus</font></a><a aria-describedby="js_4c" aria-haspopup="true" aria-owns="js_4b" data-hovercard="/ajax/hovercard/page.php?id=175739909114201" data-hovercard-position="below" href="https://www.facebook.com/fergusfallspubliclibrary/" id="js_4d"><font color="#0066cc"> Falls Public Library</font></a>\n\n<div class="_4bl7 prs"><span><span><span content="2016-02-17T16:00:00-08:00" itemprop="startDate"><a ajaxify="/ajax/calendar/day_box.php?day=1455696000&amp\;invites_link=0&amp\;source=1&amp\;action_history=%5B%7B%22surface%22%3A%22permalink%22%2C%22mechanism%22%3A%22surface%22%2C%22extra_data%22%3A%5B%5D%7D%5D" href="https://www.facebook.com/events/calendar?adjusted_ts=1455696000&amp\;open_popup_on_init=1" rel="dialog" role="button"><font color="#0066cc">Wednesday\, February 17</font></a></span></span></span></div>\n\n<div class="_4bl7"><span>at 6 PM - 8 PM</span></div>\n\n<div class="_5xhp fsm fwn fcg">\n<div class="fsm fwn fcg">&nbsp\;</div>\n</div>\n</div>\n
LOCATION:Fergus Falls Public Library 205 Hampden Ave\, Fergus Falls\, Minnesota 56537
UID:e.314.31067
SEQUENCE:3
DTSTAMP:20260425T200851Z
URL:https://business.fergusfalls.com/events/details/adult-coloring-02-17-2016-31067
END:VEVENT

END:VCALENDAR
