BEGIN:VCALENDAR
VERSION:2.0
PRODID:-//ChamberMaster//Event Calendar 2.0//EN
METHOD:PUBLISH
X-PUBLISHED-TTL:P3D
REFRESH-INTERVAL:P3D
CALSCALE:GREGORIAN
BEGIN:VEVENT
DTSTART:20160715T190000Z
DTEND:20160715T210000Z
X-MICROSOFT-CDO-ALLDAYEVENT:FALSE
SUMMARY:Adult & Teen Coloring - FFPL
DESCRIPTION:The Fergus Falls Public Library is hosting an Adult and Teen Coloring event! Unwind with this fun\, easy activity. We will have colored pencils\, markers\, coloring pages and relaxing music.
X-ALT-DESC;FMTTYPE=text/html:<span style="color: rgb(75\, 79\, 86)\; font-family: helvetica\, arial\, sans-serif\; font-size: 14px\; line-height: 18.76px\;">The Fergus Falls Public Library is hosting an Adult and Teen Coloring event! Unwind with this fun\, easy activity. We will have colored pencils\, markers\, coloring pages and relaxing music.</span>
LOCATION:Fergus Falls Public Library 205 Hampden Ave\, Fergus Falls\, Minnesota 56537
UID:e.314.32918
SEQUENCE:3
DTSTAMP:20260425T130312Z
URL:https://business.fergusfalls.com/events/details/adult-teen-coloring-ffpl-07-15-2016-32918
END:VEVENT

END:VCALENDAR
